BEGIN:VCALENDAR
VERSION:2.0
PRODID:-//ChamberMaster//Event Calendar 2.0//EN
METHOD:PUBLISH
X-PUBLISHED-TTL:P3D
REFRESH-INTERVAL:P3D
CALSCALE:GREGORIAN
BEGIN:VEVENT
DTSTART:20180504T203000Z
DTEND:20180504T233000Z
X-MICROSOFT-CDO-ALLDAYEVENT:FALSE
SUMMARY:Memorial Park DOG PARK
DESCRIPTION:Plan to join us on a date not far\, far away...\n\nMay the 4th\n\nfor a\n\nRe-Opening of the Dog Park\n\n\n\nMark your calendars for a Star Wars Celebration for the re-opening of the Dog Park at Memorial Park. Join us for Door Prizes\, Photo Props and Complimentary treats!\n\n \n\nThank You to the following sponsors:\n\nPet Me Tags\, Steven Hufford  https://www.petmetags.com/\n\n\n\nA City of Rockport Parks & Leisure Services Department Event\n\nhttp://cityofrockport.com/91/Parks-Leisure-Services\n\nSalty Dog Pet Resort  https://www.facebook.com/saltydoggieresort/
X-ALT-DESC;FMTTYPE=text/html:<div style="text-align: center\;"><font color="#0000cd" face="comic sans ms"><span style="font-size: 26px\;"><b>Plan to join us on a date not far\, far away...<br />\nMay the 4th<br />\nfor a<br />\nRe-Opening of the Dog Park<br />\n<br />\nMark your calendars for a Star Wars Celebration for the re-opening of the Dog Park at Memorial Park. Join us for Door Prizes\, Photo Props and Complimentary treats!</b></span></font><br />\n&nbsp\;</div>\n\n<div><span style="font-size:14px\;"><font color="#0000cd" face="comic sans ms"><b>Thank You to the following sponsors:<br />\nPet Me Tags\, Steven Hufford&nbsp\;&nbsp\;<a href="https://www.petmetags.com/">https://www.petmetags.com/</a><br />\n<br />\nA City of Rockport Parks &amp\; Leisure Services Department Event<br />\n<a href="http://cityofrockport.com/91/Parks-Leisure-Services">http://cityofrockport.com/91/Parks-Leisure-Services</a><br />\nSalty Dog Pet Resort&nbsp\;&nbsp\;</b></font><span style="font-size:12px\;">https://www.facebook.com/saltydoggieresort/</span></span><br />\n&nbsp\;</div>\n
LOCATION:Memorial Park 1600 FM 2165 Rockport TX 78382
UID:e.2062.34758
SEQUENCE:3
DTSTAMP:20260421T153955Z
URL:https://members.rockport-fulton.org/events/details/memorial-park-dog-park-34758
END:VEVENT

END:VCALENDAR
