BEGIN:VCALENDAR
VERSION:2.0
PRODID:-//ChamberMaster//Event Calendar 2.0//EN
METHOD:PUBLISH
X-PUBLISHED-TTL:P3D
REFRESH-INTERVAL:P3D
CALSCALE:GREGORIAN
BEGIN:VEVENT
DTSTART:20160507T150000Z
DTEND:20160507T190000Z
X-MICROSOFT-CDO-ALLDAYEVENT:FALSE
SUMMARY:Mayfest at the Fulton Mansion
DESCRIPTION:Victorian Spring Celebration- Live Music\, Games\, Pony Rides\, Crafts\, Cake Walk and Boxed Lunch Auction.
X-ALT-DESC;FMTTYPE=text/html:Victorian Spring Celebration- Live Music\, Games\, Pony Rides\, Crafts\, Cake Walk and Boxed Lunch Auction.
LOCATION:Fulton Mansion
UID:e.2062.18453
SEQUENCE:3
DTSTAMP:20260423T071751Z
URL:https://members.rockport-fulton.org/events/details/mayfest-at-the-fulton-mansion-05-07-2016-18453
END:VEVENT

END:VCALENDAR
