BEGIN:VCALENDAR
VERSION:2.0
PRODID:-//ChamberMaster//Event Calendar 2.0//EN
METHOD:PUBLISH
X-PUBLISHED-TTL:P3D
REFRESH-INTERVAL:P3D
CALSCALE:GREGORIAN
BEGIN:VEVENT
DTSTART:20180711T183000Z
DTEND:20180711T200000Z
X-MICROSOFT-CDO-ALLDAYEVENT:FALSE
SUMMARY:Master Gardener Workshop
DESCRIPTION:BECOME A MASTER GARDENER\n\n\n\nINFORMATION AND REGISTRATION SESSION. FIND OUT ABOUT THE UPCOMING MG INTERN TRAINING WEEKLY CLASSES.\n\nAUGUST THRU NOVEMBER
X-ALT-DESC;FMTTYPE=text/html:<div style="text-align: center\;"><span style="font-size:28px\;"><span style="font-family:comic sans ms\;"><em><strong><span style="color:#8B4513\;">BECOME A MASTER GARDENER<br />\n<br />\nINFORMATION AND REGISTRATION SESSION. FIND OUT ABOUT THE UPCOMING MG INTERN TRAINING WEEKLY CLASSES.<br />\nAUGUST THRU NOVEMBER</span></strong></em></span></span><br />\n<br />\n&nbsp\;</div>\n
LOCATION:Texas A&M AgriLife Extension-Aransas County 892 Airport Road Rockport Tx 78382
UID:e.2062.34761
SEQUENCE:3
DTSTAMP:20260421T123927Z
URL:https://members.rockport-fulton.org/events/details/master-gardener-workshop-34761
END:VEVENT

END:VCALENDAR
