BEGIN:VCALENDAR
VERSION:2.0
PRODID:-//ChamberMaster//Event Calendar 2.0//EN
METHOD:PUBLISH
X-PUBLISHED-TTL:P3D
REFRESH-INTERVAL:P3D
CALSCALE:GREGORIAN
BEGIN:VEVENT
DTSTART:20180817T140000Z
DTEND:20180819T220000Z
X-MICROSOFT-CDO-ALLDAYEVENT:FALSE
SUMMARY:Market Days
DESCRIPTION:ROCKPORT-FULTON MARKET DAYS!!!\n\n\n\nOver a dozen food trucks & food vendors - live music - over 100 vendors and a Pet Friendly Market!\n\nThe Best market along the Texas Coast.
X-ALT-DESC;FMTTYPE=text/html:<div style="text-align: center\;"><br />\n<span style="color:#0000CD\;"><span style="font-family:tahoma\;"><span style="font-size:36px\;"><em><strong>ROCKPORT-FULTON MARKET DAYS!!!<br />\n<br />\nOver a dozen food trucks &amp\; food vendors - live music - over 100 vendors and a Pet Friendly Market!<br />\nThe Best market along the Texas Coast.</strong></em></span></span></span></div>\n
LOCATION:Festival Grounds at Rockport Harbor
UID:e.2062.36517
SEQUENCE:3
DTSTAMP:20260421T110533Z
URL:https://members.rockport-fulton.org/events/details/market-days-36517
END:VEVENT

END:VCALENDAR
