BEGIN:VCALENDAR
VERSION:2.0
PRODID:-//ChamberMaster//Event Calendar 2.0//EN
METHOD:PUBLISH
X-PUBLISHED-TTL:P3D
REFRESH-INTERVAL:P3D
CALSCALE:GREGORIAN
BEGIN:VEVENT
DTSTART:20180722T160000Z
DTEND:20180722T220000Z
X-MICROSOFT-CDO-ALLDAYEVENT:FALSE
SUMMARY:Market Days
DESCRIPTION:ROCKPORT-FULTON MARKET DAYS\n\nCOME ADD YOUR ENERGY TO OUR RECOVERY!!!\n\n\n\nOver a dozen food trucks & food vendors - live music - over 100 vendors and a Pet Friendly Market!\n\nThe Best market along the Texas Coast.
X-ALT-DESC;FMTTYPE=text/html:<div style="text-align: center\;"><br />\n<span style="font-family:tahoma\;"><span style="font-size:36px\;"><em><strong><span style="color:#FF0000\;">ROCKPORT-FULTON MARKET DAYS<br />\nCOME ADD YOUR ENERGY TO OUR RECOVERY!!!<br />\n<br />\nOver a dozen food trucks &amp\; food vendors - live music - over 100 vendors and a Pet Friendly Market!<br />\nThe Best market along the Texas Coast.</span></strong></em></span></span></div>\n
LOCATION:Festival Grounds at Rockport Harbor
UID:e.2062.35806
SEQUENCE:3
DTSTAMP:20260421T124157Z
URL:https://members.rockport-fulton.org/events/details/market-days-35806
END:VEVENT

END:VCALENDAR
