BEGIN:VCALENDAR
VERSION:2.0
PRODID:-//ChamberMaster//Event Calendar 2.0//EN
METHOD:PUBLISH
X-PUBLISHED-TTL:P3D
REFRESH-INTERVAL:P3D
CALSCALE:GREGORIAN
BEGIN:VEVENT
DTSTART:20171117T230000Z
DTEND:20171118T010000Z
X-MICROSOFT-CDO-ALLDAYEVENT:FALSE
SUMMARY:Letters from Home-Coastal Bend Troop Support
DESCRIPTION:Coastal Bend Troop Support is bringing "Letters From Home"\n\nto Rockport-Fulton on Friday\, November 17th\n\n\n\nPlease join us in Giving Thanks USO Style!\n\n\n\nABOUT LETTERS FROM HOME\n\n\n\nIn 2010\, Letters From Home was born in Winston-Salem\, NC\, and the show is now 1 of the fastest growing Musical Performances in the United States....\n\nLetters from Home started at the suggestion of Pat Dearth\, Erinn's father\, who was a veteran of the U.S.C.G. With their mission to honor veterans\, active military and their families by reviving patriotism for all generations\, Letters From Home has toured in over 35 states\, and on cruise ships. In 2017 a documentary on Letters From Home\, produced by David Hardy for Our State Television won the Emmy Award for Best Magazine Documentary.\n\nThe show is performed in theatres\, for air shows\, cruise ships\, schools\, patriotic celebrations\, schools\, military bases\, VA hospitals\, VFW's\, American Legions and many other venues\, all under the management of Nelson Diaz. Additionally\, Letters From Home\, produces The American Story Project\, a podcast with interviews of veterans and those who have been effected by patriotism.\n\n \n\nSPECIAL GUEST BILLY SNIPES FROM 5PM-7PM-LET THE GOOD TIMES ROLL!
X-ALT-DESC;FMTTYPE=text/html:<div style="text-align: center\;"><br />\n<br />\n<br />\n<span style="color:#FF0000\;"><strong><span style="font-family:comic sans ms\;"><span style="font-size:28px\;">Coastal Bend Troop Support is bringing &quot\;Letters From Home&quot\;<br />\nto Rockport-Fulton on Friday\, November 17th<br />\n<br />\nPlease join us in Giving Thanks USO Style!</span></span></strong></span><br />\n<br />\n<u>ABOUT LETTERS FROM HOME</u><br />\n<br />\nIn 2010\, <span style="font-family:comic sans ms\;"><em>Letters&nbsp\;From Home</em></span> was born in Winston-Salem\, NC\, and the show is now 1 of the fastest growing Musical Performances in the United States....<br />\n<em><span style="font-family:comic sans ms\;">Letters from Home</span></em> started at the suggestion of Pat Dearth\, Erinn&#39\;s father\, who was a veteran of the U.S.C.G. With their mission to honor veterans\, active military and their families by reviving patriotism for all generations\, <em><span style="font-family:comic sans ms\;">Letters From Home</span></em> has <strong>toured in over 35 states\, and on cruise ships</strong>. In 2017 a documentary on Letters From Home\, produced by David Hardy for Our State Television <strong>won the Emmy Award for Best Magazine Documentary.</strong><br />\nThe show is performed in theatres\, for air shows\, cruise ships\, schools\, patriotic celebrations\, schools\, military bases\, VA hospitals\, VFW&#39\;s\, American Legions and many other venues\, all under the management of Nelson Diaz. Additionally\, <em><span style="font-family:comic sans ms\;">Letters From Home</span></em>\,<strong> produces The American Story Project</strong>\, a podcast with interviews of veterans and those who have been effected by patriotism.<br />\n&nbsp\;</div>\n\n<div>SPECIAL GUEST BILLY SNIPES FROM 5PM-7PM-LET THE GOOD TIMES ROLL!</div>\n\n<div style="text-align: center\;"><br />\n&nbsp\;</div>\n
LOCATION:Relocated to the Fairgrounds Rockport Harbor Martha Luigi Auditorium (RFHS) 1803 Omohundro Street Rockport\, TX 78382
UID:e.2062.27117
SEQUENCE:3
DTSTAMP:20260422T012442Z
URL:https://members.rockport-fulton.org/events/details/letters-from-home-coastal-bend-troop-support-27117
END:VEVENT

END:VCALENDAR
