BEGIN:VCALENDAR
VERSION:2.0
PRODID:-//ChamberMaster//Event Calendar 2.0//EN
METHOD:PUBLISH
X-PUBLISHED-TTL:P3D
REFRESH-INTERVAL:P3D
CALSCALE:GREGORIAN
BEGIN:VEVENT
DTSTART:20180209T230000Z
DTEND:20180211T050000Z
X-MICROSOFT-CDO-ALLDAYEVENT:FALSE
SUMMARY:LaMardi Gras Feb 9-10
DESCRIPTION:16th Annual LaMardi Gras \n\nSupporting Lamar Volunteer Fire Department
X-ALT-DESC;FMTTYPE=text/html:16th Annual LaMardi Gras&nbsp\;<br />\nSupporting Lamar Volunteer Fire Department&nbsp\;
LOCATION:302 Boise D'Arc Lamar\, TX
UID:e.2062.32089
SEQUENCE:3
DTSTAMP:20260421T201719Z
URL:https://members.rockport-fulton.org/events/details/lamardi-gras-feb-9-10-32089
END:VEVENT

END:VCALENDAR
