BEGIN:VCALENDAR
VERSION:2.0
PRODID:-//ChamberMaster//Event Calendar 2.0//EN
METHOD:PUBLISH
X-PUBLISHED-TTL:P3D
REFRESH-INTERVAL:P3D
CALSCALE:GREGORIAN
BEGIN:VEVENT
DTSTART:20150930T223000Z
DTEND:20150930T230000Z
X-MICROSOFT-CDO-ALLDAYEVENT:FALSE
SUMMARY:LAC Class XIX - Project Dedication
DESCRIPTION:Join us as LAC Class XIX dedicates and presents a check to Tiger Field as they wrap up of their class project.
X-ALT-DESC;FMTTYPE=text/html:Join us as LAC Class XIX dedicates and presents a check to Tiger Field as they wrap up of their class project.&nbsp\;&nbsp\;&nbsp\;&nbsp\;&nbsp\;&nbsp\;&nbsp\;&nbsp\;&nbsp\;
LOCATION:Tiger Field
UID:e.2062.4849
SEQUENCE:3
DTSTAMP:20260423T183355Z
URL:https://members.rockport-fulton.org/events/details/lac-class-xix-project-dedication-09-30-2015-4849
END:VEVENT

END:VCALENDAR
