BEGIN:VCALENDAR
VERSION:2.0
PRODID:-//ChamberMaster//Event Calendar 2.0//EN
METHOD:PUBLISH
X-PUBLISHED-TTL:P3D
REFRESH-INTERVAL:P3D
CALSCALE:GREGORIAN
BEGIN:VEVENT
DTSTART:20180303T180000Z
DTEND:20180303T210000Z
X-MICROSOFT-CDO-ALLDAYEVENT:FALSE
SUMMARY:JUICYS AIRSTREAM RETREAT - OPEN HOUSE
DESCRIPTION:Join us at Saturday\, March 3rd at "Juicys Airstream Retreat" for an informal "OPEN HOUSE" - during OysterFest. We will have light refreshments and be giving tours of our FUNKY GLAMPING Retreat.\n\n\n\nRegister to win a FREE WEEKEND rental.\n\n\n\nEvent: March 3rd\n\nTimes: 12-3pm\n\nLocation: 108 N. Second Street (Just behind Sugar Shack)\n\n\n\nCall for more details (512) 801-6202
X-ALT-DESC;FMTTYPE=text/html:<span style="font-family:tahoma"><span style="font-size:14px"><strong><span style="color:#0000FF">Join us at Saturday\, March 3rd at &quot\;Juicys Airstream Retreat&quot\; for an informal &quot\;OPEN HOUSE&quot\; - during OysterFest. We will have light refreshments and be giving tours of our FUNKY GLAMPING Retreat.<br />\n<br />\nRegister to win a FREE WEEKEND rental.<br />\n<br />\nEvent: March 3rd<br />\nTimes: 12-3pm<br />\nLocation: 108 N. Second Street (Just behind Sugar Shack)<br />\n<br />\nCall for more details (512) 801-6202</span></strong></span></span>
LOCATION:108 N. Second Street
UID:e.2062.32350
SEQUENCE:3
DTSTAMP:20260421T185830Z
URL:https://members.rockport-fulton.org/events/details/juicys-airstream-retreat-open-house-32350
END:VEVENT

END:VCALENDAR
