BEGIN:VCALENDAR
VERSION:2.0
PRODID:-//ChamberMaster//Event Calendar 2.0//EN
METHOD:PUBLISH
X-PUBLISHED-TTL:P3D
REFRESH-INTERVAL:P3D
CALSCALE:GREGORIAN
BEGIN:VEVENT
DTSTART:20260428T190000Z
DTEND:20260428T200000Z
X-MICROSOFT-CDO-ALLDAYEVENT:FALSE
SUMMARY:HummerBird Meeting -
DESCRIPTION:HummerBird Committee Meeting
X-ALT-DESC;FMTTYPE=text/html:HummerBird Committee Meeting
LOCATION:Chamber Chairman's Honor Hall
UID:e.2062.64773
SEQUENCE:3
DTSTAMP:20260424T225413Z
URL:https://members.rockport-fulton.org/events/details/hummerbird-meeting-64773
END:VEVENT

END:VCALENDAR
