BEGIN:VCALENDAR
VERSION:2.0
PRODID:-//ChamberMaster//Event Calendar 2.0//EN
METHOD:PUBLISH
X-PUBLISHED-TTL:P3D
REFRESH-INTERVAL:P3D
CALSCALE:GREGORIAN
BEGIN:VEVENT
DTSTART:20150917T220000Z
DTEND:20150920T220000Z
X-MICROSOFT-CDO-ALLDAYEVENT:FALSE
SUMMARY:HummerBird Celebration
DESCRIPTION:27th Annual HummerBird Celebration\n\n HummerBird Market\, Tours & Informative Speakers
X-ALT-DESC;FMTTYPE=text/html:<span style="font-size:20px\;"><strong>27th Annual HummerBird Celebration</strong></span><br />\n&#8203\;HummerBird Market\, Tours &amp\; Informative Speakers
LOCATION:Rockport - Fulton High School and Middle School Commons
UID:e.2062.2117
SEQUENCE:3
DTSTAMP:20260423T183503Z
URL:https://members.rockport-fulton.org/events/details/hummerbird-celebration-09-17-2015-2117
END:VEVENT

END:VCALENDAR
