BEGIN:VCALENDAR
VERSION:2.0
PRODID:-//ChamberMaster//Event Calendar 2.0//EN
METHOD:PUBLISH
X-PUBLISHED-TTL:P3D
REFRESH-INTERVAL:P3D
CALSCALE:GREGORIAN
BEGIN:VEVENT
DTSTART:20140918T220000Z
DTEND:20140921T220000Z
X-MICROSOFT-CDO-ALLDAYEVENT:FALSE
SUMMARY:Hummer Bird Celebration
DESCRIPTION:HummerBird Celebration
X-ALT-DESC;FMTTYPE=text/html:<h2 style="font-style: italic\; text-align: center\;"><br />\n<br />\n<br />\n<span style="font-family:comic sans ms\;"><span style="color:#FF0000\;"><strong>HummerBird</strong>&nbsp\;<strong>Celebration</strong></span></span></h2>\n\n<div style="text-align: center\;"><br />\n&nbsp\;</div>\n
LOCATION:Rockport - Fulton High School and Middle School Commons
UID:e.2062.802
SEQUENCE:3
DTSTAMP:20260424T192233Z
URL:https://members.rockport-fulton.org/events/details/hummer-bird-celebration-09-18-2014-802
END:VEVENT

END:VCALENDAR
