BEGIN:VCALENDAR
VERSION:2.0
PRODID:-//ChamberMaster//Event Calendar 2.0//EN
METHOD:PUBLISH
X-PUBLISHED-TTL:P3D
REFRESH-INTERVAL:P3D
CALSCALE:GREGORIAN
BEGIN:VEVENT
DTSTART:20180117T180000Z
DTEND:20180117T190000Z
X-MICROSOFT-CDO-ALLDAYEVENT:FALSE
SUMMARY:Hotel & Lodging Council
DESCRIPTION:Guest speaker\, Scott Joslove\n\n\nPresident and CEO of the Texas Hotel & Lodging Association\n\n \n\nHear about "post harvey" occupancy statistics and\n\nfind out the latest local lodging information available to our visitors!\n\n \n\n \n\n\nAND AT THE END OF EACH MEETING WE WILL HAVE A ROUND TABLE DISCUSSION TO VOICE YOUR CONCERNS AND INPUT.
X-ALT-DESC;FMTTYPE=text/html:<div align="justify" style="color: rgb(0\, 26\, 129)\; font-family: Arial\, Helvetica\, sans-serif\; font-size: 18.6667px\; background-color: rgb(255\, 255\, 255)\; text-align: justify\;">\n<div align="center" style="text-align: center\;"><span style="font-size: 14pt\;">Guest speaker\,&nbsp\;<a alt="http://www.tacvb.org/page/Joslove" href="http://www.tacvb.org/page/Joslove" linktype="1" shape="rect" style="color: blue\;" target="_blank" track="on">Scott Joslove</a></span></div>\n</div>\n\n<div align="justify" style="color: rgb(0\, 26\, 129)\; font-family: Arial\, Helvetica\, sans-serif\; font-size: 18.6667px\; background-color: rgb(255\, 255\, 255)\; text-align: justify\;"><span style="font-size: 14pt\;">President and CEO of the Texas Hotel &amp\; Lodging Association</span></div>\n\n<div align="justify" style="color: rgb(0\, 26\, 129)\; font-family: Arial\, Helvetica\, sans-serif\; font-size: 18.6667px\; background-color: rgb(255\, 255\, 255)\; text-align: justify\;"><span style="font-size: 14pt\;">&nbsp\;</span></div>\n\n<div align="justify" style="color: rgb(0\, 26\, 129)\; font-family: Arial\, Helvetica\, sans-serif\; font-size: 18.6667px\; background-color: rgb(255\, 255\, 255)\; text-align: justify\;"><span style="text-align: center\; font-size: 14pt\;">Hear about &quot\;post harvey&quot\; occupancy statistics and</span></div>\n\n<div align="justify" style="color: rgb(0\, 26\, 129)\; font-family: Arial\, Helvetica\, sans-serif\; font-size: 18.6667px\; background-color: rgb(255\, 255\, 255)\; text-align: justify\;">find out the latest local lodging information available to our visitors!<br />\n&nbsp\;</div>\n\n<div align="justify" style="color: rgb(0\, 26\, 129)\; font-family: Arial\, Helvetica\, sans-serif\; font-size: 18.6667px\; background-color: rgb(255\, 255\, 255)\; text-align: justify\;">&nbsp\;</div>\n<br />\nAND AT THE END OF EACH MEETING WE WILL HAVE A ROUND TABLE DISCUSSION TO VOICE YOUR CONCERNS AND INPUT.
LOCATION:Rockport-Fulton Chamber 319 Broadway Chairman's Honor Hall
UID:e.2062.30233
SEQUENCE:3
DTSTAMP:20260421T125048Z
URL:https://members.rockport-fulton.org/events/details/hotel-lodging-council-30233
END:VEVENT

END:VCALENDAR
