BEGIN:VCALENDAR
VERSION:2.0
PRODID:-//ChamberMaster//Event Calendar 2.0//EN
METHOD:PUBLISH
X-PUBLISHED-TTL:P3D
REFRESH-INTERVAL:P3D
CALSCALE:GREGORIAN
BEGIN:VEVENT
DTSTART:20180412T230000Z
DTEND:20180413T023000Z
X-MICROSOFT-CDO-ALLDAYEVENT:FALSE
SUMMARY:Hooks Game - Rockport-Fulton Night at the Hooks
DESCRIPTION:Rockport-Fulton Night at the Hooks Game\n\n\n\nJoin in on the fun at the Opening Night of the Corpus Christi Hooks. This is the night where everyone can enjoy a night at the Hooks Game and sitting together as the group from Rockport-Fulton. There will be announcements\, games\, activities\, and tons of fun for the people of Rockport-Fulton. \n\n\n\nWe will start the evening off with a Harvey Heroes Walk around the track at 6:15 p.m. followed by the announcement of elected officials during the Pregame Show along with the fabulous Rockport-Fulton School Choir singing the National Anthem. Our very own Chairman of the Board Betty Hattman will throw that ceremonial first pitch. If you have someone to nominate as a Harvey Hero\, email president@1rockport.org.
X-ALT-DESC;FMTTYPE=text/html:<span style="font-size:18px\;"><span style="color:#0000FF\;"><strong>Rockport-Fulton Night at the Hooks Game</strong></span></span><br />\n<br />\nJoin in on the fun at the Opening Night of the Corpus Christi Hooks. This is the night where everyone can enjoy a night at the Hooks Game and sitting together as the group from Rockport-Fulton. There will be announcements\, games\, activities\, and tons of fun for the people of Rockport-Fulton.&nbsp\;<br />\n<br />\nWe will start the evening off with a Harvey Heroes Walk around the track at 6:15 p.m. followed by the announcement of elected officials during the Pregame&nbsp\;Show along with the fabulous Rockport-Fulton School Choir singing the National Anthem. Our very own Chairman of the Board Betty Hattman will throw that ceremonial first pitch.&nbsp\;<span style="color:#FF0000\;">If you have someone to nominate as a Harvey Hero\, email president@1rockport.org.&nbsp\;</span>
LOCATION:Whataburger Field (Located just under the Harbor Bridge)
UID:e.2062.32390
SEQUENCE:3
DTSTAMP:20260421T170700Z
URL:https://members.rockport-fulton.org/events/details/hooks-game-rockport-fulton-night-at-the-hooks-32390
END:VEVENT

END:VCALENDAR
