BEGIN:VCALENDAR
VERSION:2.0
PRODID:-//ChamberMaster//Event Calendar 2.0//EN
METHOD:PUBLISH
X-PUBLISHED-TTL:P3D
REFRESH-INTERVAL:P3D
CALSCALE:GREGORIAN
BEGIN:VEVENT
DTSTART:20260425T130000Z
DTEND:20260425T200000Z
X-MICROSOFT-CDO-ALLDAYEVENT:FALSE
SUMMARY:Hook on Health
DESCRIPTION:Hooked on Health is bringing our community together for a day of movement\, wellness\, and connection. Enjoy local health booths and live demos.
X-ALT-DESC;FMTTYPE=text/html:<strong>Hooked on Health is bringing our community together for a day of movement\, wellness\, and connection. Enjoy local health booths and live demos.&nbsp\;</strong>
LOCATION:The ROCC Rockport Conference Center 106 S Austin Street
UID:e.2062.64780
SEQUENCE:3
DTSTAMP:20260425T190454Z
URL:https://members.rockport-fulton.org/events/details/hook-on-health-64780
END:VEVENT

END:VCALENDAR
