BEGIN:VCALENDAR
VERSION:2.0
PRODID:-//ChamberMaster//Event Calendar 2.0//EN
METHOD:PUBLISH
X-PUBLISHED-TTL:P3D
REFRESH-INTERVAL:P3D
CALSCALE:GREGORIAN
BEGIN:VEVENT
DTSTART;VALUE=DATE:20151127
DTEND;VALUE=DATE:20151224
TRANSP:TRANSPARENT
X-MICROSOFT-CDO-ALLDAYEVENT:TRUE
SUMMARY:HOLIDAY FOOD MARKET
DESCRIPTION:GLOW Seafood Kitchen's Holiday Food Market November 27th - December 23rd Join us for a jolly season of food\, champagne and shopping as Glow becomes a market for the holidays\, filled with culinary treats. This promises to be the perfect opportunity for picking up your locally made gifts. Click here to see what's in store! http://glowrockport.com/holidayfoodmarket.pdf
X-ALT-DESC;FMTTYPE=text/html:GLOW Seafood Kitchen&#39\;s Holiday Food Market November 27th - December 23rd Join us for a jolly season of food\, champagne and shopping as Glow becomes a market for the holidays\, filled with culinary treats. This promises to be the perfect opportunity for picking up your locally made gifts. Click here to see what&#39\;s in store! http://glowrockport.com/holidayfoodmarket.pdf
LOCATION:GLOW Seafood Kitchen 1815 Broadway Rockport\, TX
UID:e.2062.4998
SEQUENCE:3
DTSTAMP:20260423T142027Z
URL:https://members.rockport-fulton.org/events/details/holiday-food-market-11-27-2015-4998
END:VEVENT

END:VCALENDAR
