BEGIN:VCALENDAR
VERSION:2.0
PRODID:-//ChamberMaster//Event Calendar 2.0//EN
METHOD:PUBLISH
X-PUBLISHED-TTL:P3D
REFRESH-INTERVAL:P3D
CALSCALE:GREGORIAN
BEGIN:VEVENT
DTSTART:20151205T200000Z
DTEND:20151205T220000Z
X-MICROSOFT-CDO-ALLDAYEVENT:FALSE
SUMMARY:Holiday Cooking Class
DESCRIPTION:Calling all budding chefs... Sign up now for our Holiday Cooking Class for Kids! We'll learn about the history behind some of our holiday favorites\, work with chocolate\, make peppermint bark plus decorate gingerbread folks and big ol' Texas shaped cookies! Includes cooking booklet and gift bag. Suitable for ages 6-12. Register http://www.glowrockport.com/events.html
X-ALT-DESC;FMTTYPE=text/html:Calling all budding chefs... Sign up now for our Holiday Cooking Class for Kids! We&#39\;ll learn about the history behind some of our holiday favorites\, work with chocolate\, make peppermint bark plus decorate gingerbread folks and big ol&#39\; Texas shaped cookies! Includes cooking booklet and gift bag. Suitable for ages 6-12. Register http://www.glowrockport.com/events.html
LOCATION:GLOW Seafood Kitchen 1815 Broadway Rockport\, TX
UID:e.2062.4997
SEQUENCE:3
DTSTAMP:20260423T140801Z
URL:https://members.rockport-fulton.org/events/details/holiday-cooking-class-12-05-2015-4997
END:VEVENT

END:VCALENDAR
