BEGIN:VCALENDAR
VERSION:2.0
PRODID:-//ChamberMaster//Event Calendar 2.0//EN
METHOD:PUBLISH
X-PUBLISHED-TTL:P3D
REFRESH-INTERVAL:P3D
CALSCALE:GREGORIAN
BEGIN:VEVENT
DTSTART:20180816T183000Z
DTEND:20180816T193000Z
X-MICROSOFT-CDO-ALLDAYEVENT:FALSE
SUMMARY:Harvey Anniversary Committee Meeting
DESCRIPTION:Committee Planning Meeting\n\nAll input requested at this time.\n\nReview schedules\, performances\, etc.
X-ALT-DESC;FMTTYPE=text/html:Committee Planning Meeting<br />\nAll input requested at this time.<br />\nReview schedules\, performances\, etc.&nbsp\;
LOCATION:319 Broadway\, Rockport Rockport-Fulton Chamber of Commerce Chairman's Honor Hall
UID:e.2062.36533
SEQUENCE:3
DTSTAMP:20260421T111116Z
URL:https://members.rockport-fulton.org/events/details/harvey-anniversary-committee-meeting-36533
END:VEVENT

END:VCALENDAR
