BEGIN:VCALENDAR
VERSION:2.0
PRODID:-//ChamberMaster//Event Calendar 2.0//EN
METHOD:PUBLISH
X-PUBLISHED-TTL:P3D
REFRESH-INTERVAL:P3D
CALSCALE:GREGORIAN
BEGIN:VEVENT
DTSTART:20151018T170000Z
DTEND:20151018T210000Z
X-MICROSOFT-CDO-ALLDAYEVENT:FALSE
SUMMARY:Harvest Festival at GLOW
DESCRIPTION:Join us in our Glow Garden for our Rockport Harvest Festival on October 18th from Noon til 4pm! We'll have lots of Fall Fun with contests\, live music\, yummy baked goods\, pumpkin painting\, a beer garden and more!
X-ALT-DESC;FMTTYPE=text/html:Join us in our Glow Garden for our Rockport Harvest Festival on October 18th from Noon til 4pm! We&#39\;ll have lots of Fall Fun with contests\, live music\, yummy baked goods\, pumpkin painting\, a beer garden and more!
LOCATION:Glow Seafood Kitchen & Garden
UID:e.2062.4892
SEQUENCE:3
DTSTAMP:20260423T165945Z
URL:https://members.rockport-fulton.org/events/details/harvest-festival-at-glow-10-18-2015-4892
END:VEVENT

END:VCALENDAR
