BEGIN:VCALENDAR
VERSION:2.0
PRODID:-//ChamberMaster//Event Calendar 2.0//EN
METHOD:PUBLISH
X-PUBLISHED-TTL:P3D
REFRESH-INTERVAL:P3D
CALSCALE:GREGORIAN
BEGIN:VEVENT
DTSTART:20151009T230000Z
DTEND:20151010T020000Z
X-MICROSOFT-CDO-ALLDAYEVENT:FALSE
SUMMARY:Garden Party Concert: Mick Tinsley at GLOW
DESCRIPTION:Join us in the Glow Garden on Friday\, October 9th as we welcome back Mick Tinsley\, winner of the 2015 Rusty Weir Songwriting competition. The Garden Bar opens at 5pm and music starts at 6pm!
X-ALT-DESC;FMTTYPE=text/html:Join us in the Glow Garden on Friday\, October 9th as we welcome back Mick Tinsley\, winner of the 2015 Rusty Weir Songwriting competition. The Garden Bar opens at 5pm and music starts at 6pm!
LOCATION:Glow Seafood Kitchen 1815 Broadway near Little Bay Rockport\, TX
UID:e.2062.4886
SEQUENCE:3
DTSTAMP:20260423T170157Z
URL:https://members.rockport-fulton.org/events/details/garden-party-concert-mick-tinsley-at-glow-10-09-2015-4886
END:VEVENT

END:VCALENDAR
