BEGIN:VCALENDAR
VERSION:2.0
PRODID:-//ChamberMaster//Event Calendar 2.0//EN
METHOD:PUBLISH
X-PUBLISHED-TTL:P3D
REFRESH-INTERVAL:P3D
CALSCALE:GREGORIAN
BEGIN:VEVENT
DTSTART:20180721T170000Z
DTEND:20180721T180000Z
X-MICROSOFT-CDO-ALLDAYEVENT:FALSE
SUMMARY:GARDEN ART WORKSHOP
DESCRIPTION:Aransas/San Patricio Master Gardeners\n\nSeminar\n\n\n\n\n\nWORKSHOP-REGISTRATION REQUIRED "MAKING GARDEN ART"\, by\n\nLinda Swiggett\, Aransas County Master Gardener\n\nHands on Workshop.
X-ALT-DESC;FMTTYPE=text/html:<div style="text-align: center\;"><br />\n<br />\n<span style="font-size:26px\;"><strong><em><span style="color:#A52A2A\;">Aransas/San Patricio Master Gardeners<br />\nSeminar<br />\n<br />\n<br />\nWORKSHOP-REGISTRATION REQUIRED &quot\;MAKING GARDEN ART&quot\;\, by<br />\nLinda Swiggett\, Aransas&nbsp\;County Master Gardener<br />\nHands on Workshop.</span></em></strong></span></div>\n
LOCATION:Texas A&M AgriLife Extension-Aransas County 892 Airport Road Rockport Tx 78382
UID:e.2062.34763
SEQUENCE:3
DTSTAMP:20260421T124158Z
URL:https://members.rockport-fulton.org/events/details/garden-art-workshop-34763
END:VEVENT

END:VCALENDAR
