BEGIN:VCALENDAR
VERSION:2.0
PRODID:-//ChamberMaster//Event Calendar 2.0//EN
METHOD:PUBLISH
X-PUBLISHED-TTL:P3D
REFRESH-INTERVAL:P3D
CALSCALE:GREGORIAN
BEGIN:VEVENT
DTSTART:20180401T120000Z
DTEND:20180401T130000Z
X-MICROSOFT-CDO-ALLDAYEVENT:FALSE
SUMMARY:Easter Sunrise Services
DESCRIPTION:Join in for the annual Easter Sunrise Service at the Rockport Beach at Sunrise on Sunday\, April 1\, 2018\n\n\n\nThis even will be held on the stage at the Rockport Festival Grounds. Bring your lawn chairs. People love this service and this year especially\, it could take a whole different perspective.
X-ALT-DESC;FMTTYPE=text/html:<div style="text-align: center\;"><br />\n<br />\n<span style="font-family:comic sans ms\;"><span style="font-size:26px\;"><strong><span style="color:#800080\;">Join in for the annual Easter Sunrise Service at the Rockport Beach at Sunrise on Sunday\, April 1\, 2018<br />\n<br />\nThis even will be held on the stage at the Rockport Festival Grounds. Bring your lawn chairs. People love this service and this year especially\, it could take a whole different perspective.</span></strong></span></span></div>\n
LOCATION:Rockport Beach - Sunrise Easter Service at the Rockport Festival Grounds
UID:e.2062.32386
SEQUENCE:3
DTSTAMP:20260421T170059Z
URL:https://members.rockport-fulton.org/events/details/easter-sunrise-services-32386
END:VEVENT

END:VCALENDAR
