BEGIN:VCALENDAR
VERSION:2.0
PRODID:-//ChamberMaster//Event Calendar 2.0//EN
METHOD:PUBLISH
X-PUBLISHED-TTL:P3D
REFRESH-INTERVAL:P3D
CALSCALE:GREGORIAN
BEGIN:VEVENT
DTSTART:20180324T150000Z
DTEND:20180324T200000Z
X-MICROSOFT-CDO-ALLDAYEVENT:FALSE
SUMMARY:Easter at the Beach Children's Coalition of Aransas County
DESCRIPTION:Easter at the Beach\n\nHosted by the Children's Coalition of Aransas County.\n\nEgg Hunts and Games!\n\n\n\nArea businesses and organizations will set up tables with giveaways!
X-ALT-DESC;FMTTYPE=text/html:<div style="text-align: center\;"><br />\n<em><strong><span style="color:#DDA0DD\;"><span style="font-size:36px\;">Easter at the Beach<br />\nHosted by the Children&#39\;s Coalition of Aransas County.<br />\nEgg Hunts and Games!<br />\n<br />\nArea businesses and organizations will set up tables with giveaways!</span></span></strong></em></div>\n
LOCATION:Rockport Beach
UID:e.2062.32385
SEQUENCE:3
DTSTAMP:20260421T190023Z
URL:https://members.rockport-fulton.org/events/details/easter-at-the-beach-children-s-coalition-of-aransas-county-32385
END:VEVENT

END:VCALENDAR
