BEGIN:VCALENDAR
VERSION:2.0
PRODID:-//ChamberMaster//Event Calendar 2.0//EN
METHOD:PUBLISH
X-PUBLISHED-TTL:P3D
REFRESH-INTERVAL:P3D
CALSCALE:GREGORIAN
BEGIN:VEVENT
DTSTART:20180811T150000Z
DTEND:20180811T230000Z
X-MICROSOFT-CDO-ALLDAYEVENT:FALSE
SUMMARY:Downtown Art Center Market Days
DESCRIPTION:TUNE IN TO DOWNTOWN!\n\ncome see the Piano Man\,\n\nBritt Alexius\n\n\n\nIt's the Second Saturday Art Market Days!
X-ALT-DESC;FMTTYPE=text/html:<div style="text-align: center\;"><br />\n<br />\n<span style="font-size:36px\;"><strong><span style="color:#0000FF\;"><em>TUNE IN TO DOWNTOWN!<br />\ncome see the Piano Man\,<br />\nBritt Alexius<br />\n<br />\nIt&#39\;s the Second Saturday Art Market Days!</em></span></strong></span><br />\n<br />\n&nbsp\;</div>\n
LOCATION:Downtown Heritage District Rockport TX
UID:e.2062.35980
SEQUENCE:3
DTSTAMP:20260421T111440Z
URL:https://members.rockport-fulton.org/events/details/downtown-art-center-market-days-35980
END:VEVENT

END:VCALENDAR
