BEGIN:VCALENDAR
VERSION:2.0
PRODID:-//ChamberMaster//Event Calendar 2.0//EN
METHOD:PUBLISH
X-PUBLISHED-TTL:P3D
REFRESH-INTERVAL:P3D
CALSCALE:GREGORIAN
BEGIN:VEVENT
DTSTART:20180321T190000Z
DTEND:20180321T200000Z
X-MICROSOFT-CDO-ALLDAYEVENT:FALSE
SUMMARY:Coffee\, Tea & Games - Fulton Mansion Education & History Center
DESCRIPTION:COFFEE\, TEA AND GAMES\n\nVictorian Parlor Games\n\n Fun for All Ages!\n\nWear Your Fancy Vintage Hat....or Not!\n\n \n\nA $5 Fundraiser Event to help us Re-Open the Fulton Mansion.\nGames every Wednesday in March. Different game every week!!\n\n\n	Where's Moriarity\n	The Laughing Game\n	Fruit Bowl\n	Pass The Slipper\n	Do You Love Your Neighbor\n\n Brought to you by: Volunteers of the Fulton Mansion
X-ALT-DESC;FMTTYPE=text/html:<div style="text-align: center\;"><br />\n<br />\n<span style="font-size:26px\;"><em><span style="color:#008000\;"><span style="font-family:comic sans ms\;"><strong>COFFEE\, TEA AND GAMES<br />\nVictorian Parlor Games<br />\n&nbsp\;Fun for All Ages!<br />\nWear Your Fancy Vintage Hat....or Not!</strong></span></span></em></span><br />\n&nbsp\;</div>\n\n<div><span style="font-size:26px\;"><em><span style="color:#008000\;"><span style="font-family:comic sans ms\;"><strong>A $5 Fundraiser Event to help us Re-Open the Fulton Mansion.</strong></span></span></em></span></div>\n<strong><span style="color:#FF0000\;"><span style="font-family:verdana\;"><span style="font-size:16px\;"><em>Games every Wednesday in March. Different game every week!!</em></span></span></span></strong>\n\n<ul>\n	<li><strong><span style="color:#FF0000\;"><span style="font-family:verdana\;"><span style="font-size:16px\;"><strong><span style="color:#FF0000\;"><span style="font-family:verdana\;"><span style="font-size:16px\;">Where&#39\;s Moriarity</span></span></span></strong></span></span></span></strong></li>\n	<li><strong><span style="color:#FF0000\;"><span style="font-family:verdana\;"><span style="font-size:16px\;">The Laughing Game</span></span></span></strong></li>\n	<li><strong><span style="color:#FF0000\;"><span style="font-family:verdana\;"><span style="font-size:16px\;">Fruit Bowl</span></span></span></strong></li>\n	<li><strong><span style="color:#FF0000\;"><span style="font-family:verdana\;"><span style="font-size:16px\;">Pass The Slipper</span></span></span></strong></li>\n	<li><strong><span style="color:#FF0000\;"><span style="font-family:verdana\;"><span style="font-size:16px\;">Do You Love Your Neighbor</span></span></span></strong></li>\n</ul>\n<strong><span style="color:#FF0000\;"><span style="font-family:verdana\;"><span style="font-size:16px\;"> Brought to you by: Volunteers of the Fulton Mansion</span></span></span></strong>
LOCATION:The Fulton Mansion-History Center Located behind the Fulton Mansion 317 Fulton Beach Road Rockport\, TX 78382
UID:e.2062.32376
SEQUENCE:3
DTSTAMP:20260421T185345Z
URL:https://members.rockport-fulton.org/events/details/coffee-tea-and-games-03-21-2018-32376
END:VEVENT

END:VCALENDAR
