BEGIN:VCALENDAR
VERSION:2.0
PRODID:-//ChamberMaster//Event Calendar 2.0//EN
METHOD:PUBLISH
X-PUBLISHED-TTL:P3D
REFRESH-INTERVAL:P3D
CALSCALE:GREGORIAN
BEGIN:VEVENT
DTSTART:20180826T230000Z
DTEND:20180827T020000Z
X-MICROSOFT-CDO-ALLDAYEVENT:FALSE
SUMMARY:Church Unlimited Community Celebration
DESCRIPTION:Join us Sunday 8/26 at 6pm for food trucks\, inflatables\, giveaways\, fun and games!
X-ALT-DESC;FMTTYPE=text/html:<div style="text-align: center\;"><br />\n<span style="color:#000080\;"><span style="font-size:36px\;"><span style="font-family:tahoma\;">Join us Sunday 8/26 at 6pm for food trucks\, inflatables\, giveaways\, fun and games!</span></span></span></div>\n
LOCATION:902 E Main St Rockport\, Texas
UID:e.2062.36888
SEQUENCE:3
DTSTAMP:20260421T110917Z
URL:https://members.rockport-fulton.org/events/details/church-unlimited-community-celebration-36888
END:VEVENT

END:VCALENDAR
