BEGIN:VCALENDAR
VERSION:2.0
PRODID:-//ChamberMaster//Event Calendar 2.0//EN
METHOD:PUBLISH
X-PUBLISHED-TTL:P3D
REFRESH-INTERVAL:P3D
CALSCALE:GREGORIAN
BEGIN:VEVENT
DTSTART:20170719T220000Z
DTEND:20170720T000000Z
X-MICROSOFT-CDO-ALLDAYEVENT:FALSE
SUMMARY:Christmas In July - Parade of Products
DESCRIPTION:Christmas In July - Parade of Products\n\n\n\nCome have tons of fun as your fellow business representatives show off locally available products. \n\n\n\nThis is an event of the Small Business Council - Business Builders.
X-ALT-DESC;FMTTYPE=text/html:<span style="font-size:14px\;"><strong>Christmas In July - Parade of Products<br />\n<br />\n<span style="font-size:12px\;">Come have tons of fun as your fellow business representatives show off locally available products.&nbsp\;<br />\n<br />\nThis is an event of the Small Business Council - Business Builders.</span></strong></span>
LOCATION:
UID:e.2062.21934
SEQUENCE:3
DTSTAMP:20260422T091120Z
URL:https://members.rockport-fulton.org/events/details/christmas-in-july-parade-of-products-21934
END:VEVENT

END:VCALENDAR
