BEGIN:VCALENDAR
VERSION:2.0
PRODID:-//ChamberMaster//Event Calendar 2.0//EN
METHOD:PUBLISH
X-PUBLISHED-TTL:P3D
REFRESH-INTERVAL:P3D
CALSCALE:GREGORIAN
BEGIN:VEVENT
DTSTART:20180210T220000Z
DTEND:20180211T000000Z
X-MICROSOFT-CDO-ALLDAYEVENT:FALSE
SUMMARY:Chocolate Crawl in Downtown Rockport
DESCRIPTION:Stroll through Downtown Rockport and visit the participating stores in Downtown Rockport from 4 pm to 6 pm Saturday\, Feb. 10. Discounts\, treats and fabulous.... CHOCOLATE!
X-ALT-DESC;FMTTYPE=text/html:Stroll through Downtown Rockport and visit the participating stores in Downtown Rockport from 4 pm to 6 pm Saturday\, Feb. 10. Discounts\, treats and fabulous.... <em><u>CHOCOLATE!</u></em>
LOCATION:Downtown Rockport
UID:e.2062.32346
SEQUENCE:3
DTSTAMP:20260421T201742Z
URL:https://members.rockport-fulton.org/events/details/chocolate-crawl-in-downtown-rockport-32346
END:VEVENT

END:VCALENDAR
