BEGIN:VCALENDAR
VERSION:2.0
PRODID:-//ChamberMaster//Event Calendar 2.0//EN
METHOD:PUBLISH
X-PUBLISHED-TTL:P3D
REFRESH-INTERVAL:P3D
CALSCALE:GREGORIAN
BEGIN:VEVENT
DTSTART:20180213T173000Z
DTEND:20180213T190000Z
X-MICROSOFT-CDO-ALLDAYEVENT:FALSE
SUMMARY:Chamber Luncheon - Where are we? Where are we going? Hurricane Harvey Recovery
DESCRIPTION:Where are we? Where Are We Going?\n\nHurricane Harvey Update\n\n\nListen as local volunteer speakers from the various aspects of the Emergency Operations Team speak about their particular area of the Recovery Process:\n\n* Public Works\, City of Rockport\n\n* County Roads & Bridges\, Flood Mitigation\n\n* Texas Department of Transportation\, Debris\, Roads & Signage\n\n* Environmental Health - Debris Management\, Transfer Station\n\n* Economic Development Recovery Plan - Team Leads\n\n\n\nJoin the Rockport-Fulton Chamber of Commerce for this very detailed\, informative luncheon. If you have questions\, please do not hesitate to contact membership@1rockport.org
X-ALT-DESC;FMTTYPE=text/html:<div style="text-align: center\;"><font face="times new roman"><span style="font-size: 20px\;"><b><span style="color:#008000\;">Where are we?&nbsp\;Where Are We Going?<br />\nHurricane Harvey Update</span></b></span></font></div>\n<br />\nListen as local volunteer speakers from the various aspects of the Emergency Operations Team speak about their particular area of the Recovery Process:<br />\n* Public Works\, City of Rockport<br />\n* County Roads &amp\; Bridges\, Flood Mitigation<br />\n* Texas Department of Transportation\, Debris\, Roads &amp\; Signage<br />\n* Environmental Health - Debris Management\, Transfer Station<br />\n* Economic Development Recovery Plan - Team Leads<br />\n<br />\nJoin the Rockport-Fulton Chamber of Commerce for this very detailed\, informative luncheon. If you have questions\, please do not hesitate to contact <a href="mailto:membership@1rockport.org?subject=Chamber%20Luncheon">membership@1rockport.org</a>
LOCATION:Rockport Health & Fitness 619 S. Fulton Beach Road (The food line will be in the classroom and the seating will be in the gym) Rockport\, TX 78382
UID:e.2062.32128
SEQUENCE:3
DTSTAMP:20260421T201957Z
URL:https://members.rockport-fulton.org/events/details/chamber-luncheon-where-are-we-where-are-we-going-hurricane-harvey-recovery-32128
END:VEVENT

END:VCALENDAR
