BEGIN:VCALENDAR
VERSION:2.0
PRODID:-//ChamberMaster//Event Calendar 2.0//EN
METHOD:PUBLISH
X-PUBLISHED-TTL:P3D
REFRESH-INTERVAL:P3D
CALSCALE:GREGORIAN
BEGIN:VEVENT
DTSTART:20151117T173000Z
DTEND:20151117T190000Z
X-MICROSOFT-CDO-ALLDAYEVENT:FALSE
SUMMARY:Chamber Luncheon - Palm Trees & Holiday Treats
DESCRIPTION:Chamber Luncheon \n\nPalm Trees & Holiday Treats\n\n\n\nA Merry Thanksgiving to navigate to a fabulous New Year! \n\n\n\nCatered by Miss K Catering\n\n\n\nMenu\n\nWatermelon Feta and Mint Salad\n\nHam & Pineapple Kbobs\n\nApple Bourbon Glazed Turkey\n\nBlack Eyed Peas\n\nCoconut Orange Sweet Potato\n\nSouthern Cornbread Dressing\n\nRolls & Butter\n\nPineapple Upside Down Cake\n\nIced Tea or Water
X-ALT-DESC;FMTTYPE=text/html:Chamber Luncheon&nbsp\;<br />\nPalm Trees &amp\; Holiday Treats<br />\n<br />\n<strong><em>A Merry Thanksgiving to navigate to a fabulous New Year!&nbsp\;</em></strong><br />\n<br />\nCatered by Miss K Catering<br />\n<br />\n<u><em><strong>Menu</strong></em></u><br />\nWatermelon Feta and Mint Salad<br />\nHam &amp\; Pineapple Kbobs<br />\nApple Bourbon Glazed Turkey<br />\nBlack Eyed Peas<br />\nCoconut Orange Sweet Potato<br />\nSouthern Cornbread Dressing<br />\nRolls &amp\; Butter<br />\nPineapple Upside Down Cake<br />\nIced Tea or Water<br />\n&nbsp\;
LOCATION:Fulton Convention Center (Paws & Taws)
UID:e.2062.2663
SEQUENCE:3
DTSTAMP:20260423T152241Z
URL:https://members.rockport-fulton.org/events/details/chamber-luncheon-palm-trees-holiday-treats-11-17-2015-2663
END:VEVENT

END:VCALENDAR
