BEGIN:VCALENDAR
VERSION:2.0
PRODID:-//ChamberMaster//Event Calendar 2.0//EN
METHOD:PUBLISH
X-PUBLISHED-TTL:P3D
REFRESH-INTERVAL:P3D
CALSCALE:GREGORIAN
BEGIN:VEVENT
DTSTART:20180410T163000Z
DTEND:20180410T180000Z
X-MICROSOFT-CDO-ALLDAYEVENT:FALSE
SUMMARY:Chamber Luncheon - Housing\, Housing & More Housing
DESCRIPTION:Housing\, Housing & More Housing\n\n \n\nCoastal Bend Disaster Recovery Group was established in 2015 to handle major disasters in the Coastal Bend. \n\nCome meet  Executive Director Warren E. Phipps\, Jr. \n\nLearn and understand the coalition and how it positively impacts those so severely impacted by Hurricane Harvey.\n\n \nPanel (Left side): Representatives:\n\n \n\nShelby O'Brien\, "Housing Update & Workforce Idea"\n\nGeneral Land Office\n\n \n\nAmy Montgomery\, "How the Volunteer Reception Center Works"\n\nLong Term Recovery Team\n\n \n\nNicole Matthews\, "State Assistance Is Working for You"\n\n\nInstitute for Building Technology and Safety\n\n \nPanel (Right side): Representatives:\n\n\n	Mennonites Disaster Services  \n	Mennonites Disaster Relief  \n	Community Aid Relief Efforts  \n	Habitat for Humanity of Aransas County \n	All Hands and Hearts \n	Rebuilding Together San Antonio\n	Hands of Hope\n	Samaritan's Purse\n	Texas Baptist Men\n	UMCOR\n	Reach Global Crisis Response\n\n\n\n \n\nReserved $200.00 Sponsor Tables - includes upfront seating for 8 people.\n\n Additional benefits includes table and presentation signage\, name and logo on registration sign up email and announcement over PA system by emcee. \n\n(Hurry limited availability)
X-ALT-DESC;FMTTYPE=text/html:<div style="text-align: center\;"><span style="font-family:verdana\;"><span style="font-size:20px\;"><strong>Housing\, Housing &amp\; More Housing</strong></span></span></div>\n\n<div>&nbsp\;</div>\n\n<div style="text-align: center\;">Coastal Bend Disaster Recovery Group was established in 2015 to handle major disasters in the Coastal Bend.&nbsp\;<br />\nCome meet &nbsp\;<strong><a href="https://docs.google.com/document/d/1Jx4hIBikqcOeK5t1PgL_gdSgv_npnL22BnjKc-ZEqdw/edit">Executive Director Warren E. Phipps\, Jr.</a>&nbsp\;</strong><br />\nLearn and understand the coalition and how it positively impacts those so severely impacted by Hurricane Harvey.<br />\n&nbsp\;\n<div align="center" style="text-align: center\;"><strong>Panel (Left side): Representatives:</strong></div>\n\n<div align="center" style="text-align: center\;">&nbsp\;</div>\n\n<div align="center" style="text-align: center\;"><strong>Shelby O&#39\;Brien\,</strong>&nbsp\;<em>&quot\;Housing Update &amp\; Workforce Idea&quot\;</em></div>\n\n<div align="center" style="text-align: center\;">General Land Office</div>\n\n<div align="center" style="text-align: center\;">&nbsp\;</div>\n\n<div align="center" style="text-align: center\;"><strong>Amy Montgomery</strong>\,<em>&nbsp\;&quot\;How the Volunteer Reception Center Works&quot\;</em></div>\n\n<div align="center" style="text-align: center\;">Long Term Recovery Team</div>\n\n<div align="center" style="text-align: center\;">&nbsp\;</div>\n\n<div align="center" style="text-align: center\;"><strong>Nicole Matthews</strong>\,&nbsp\;<em>&quot\;State Assistance Is Working for You&quot\;</em></div>\n\n<div align="center" style="text-align: center\;">\n<div style="background-color: rgb(255\, 255\, 255)\;"><span new="" style="color: rgb(51\, 51\, 51)\; font-size: 16px\; font-family: " times="">Institute for Building Technology and Safety</span><br />\n&nbsp\;\n<div align="center" style="background-color: rgb(255\, 255\, 255)\;"><strong>Panel (Right side):&nbsp\;<span style="text-align: left\;">Representatives:</span></strong></div>\n\n<ul>\n	<li align="left" style="text-align: left\;">Mennonites Disaster Services&nbsp\;&nbsp\;</li>\n	<li align="left" style="text-align: left\;">Mennonites Disaster Relief&nbsp\;&nbsp\;</li>\n	<li align="left" style="text-align: left\;">Community Aid Relief Efforts&nbsp\;&nbsp\;</li>\n	<li align="left" style="text-align: left\;">Habitat for Humanity of Aransas County&nbsp\;</li>\n	<li align="left" style="text-align: left\;">All Hands and Hearts&nbsp\;</li>\n	<li align="left" style="text-align: left\;">Rebuilding Together San Antonio</li>\n	<li align="left" style="text-align: left\;">Hands of Hope</li>\n	<li align="left" style="text-align: left\;"><span style="text-align: -webkit-center\;">Samaritan&#39\;s Purse</span></li>\n	<li align="left" style="text-align: left\;"><span style="text-align: -webkit-center\;">Texas Baptist Men</span></li>\n	<li align="left" style="text-align: left\;">UMCOR</li>\n	<li align="left" style="text-align: left\;">Reach Global Crisis Response</li>\n</ul>\n</div>\n\n<div>&nbsp\;</div>\n\n<div style="background-color: rgb(255\, 255\, 255)\;"><strong style="color: rgb(51\, 51\, 51)\; font-family: sans-serif\, Arial\, Verdana\, &quot\;Trebuchet MS&quot\;\; font-size: 13px\; background-color: rgb(255\, 255\, 255)\; text-align: -webkit-center\;"><em><span background-color:="" font-size:="" trebuchet="">Reserved $200.00 Sponsor Tables&nbsp\;- includes&nbsp\;upfront seating for&nbsp\;8 people.<br />\n&nbsp\;Additional benefits includes table and presentation&nbsp\;signage\, name and logo on registration sign up email and announcement over PA system by emcee.&nbsp\;</span></em></strong><br style="color: rgb(51\, 51\, 51)\; font-family: sans-serif\, Arial\, Verdana\, &quot\;Trebuchet MS&quot\;\; font-size: 13px\; background-color: rgb(255\, 255\, 255)\; text-align: -webkit-center\;" />\n<span style="color: rgb(51\, 51\, 51)\; font-family: sans-serif\, Arial\, Verdana\, &quot\;Trebuchet MS&quot\;\; background-color: rgb(255\, 255\, 255)\; text-align: -webkit-center\; font-size: 14px\;"><strong style="font-size: 13px\;"><em><span background-color:="" font-size:="" trebuchet=""><span style="font-size: 18px\;">(Hurry limited availability)</span></span></em></strong></span></div>\n</div>\n</div>\n
LOCATION:Drifters Resort 4401 Business Highway 35 South Rockport
UID:e.2062.32809
SEQUENCE:3
DTSTAMP:20260421T171336Z
URL:https://members.rockport-fulton.org/events/details/chamber-luncheon-housing-housing-more-housing-32809
END:VEVENT

END:VCALENDAR
