BEGIN:VCALENDAR
VERSION:2.0
PRODID:-//ChamberMaster//Event Calendar 2.0//EN
METHOD:PUBLISH
X-PUBLISHED-TTL:P3D
REFRESH-INTERVAL:P3D
CALSCALE:GREGORIAN
BEGIN:VEVENT
DTSTART:20180508T163000Z
DTEND:20180508T180000Z
X-MICROSOFT-CDO-ALLDAYEVENT:FALSE
SUMMARY:Chamber Luncheon - Find Yourself at the May Chamber Luncheon May 8
DESCRIPTION:Find Yourself at the May Chamber Luncheon\n\n Celebrate National Tourism Week and listen as a complete update on the Comeback Campaign is presented.\n\n#findyourselfinrockportfulton\n\n#lifesbetter\n\n#travelnow\n\n#NTTW18\n\nLearn about the community buy-in and support needed for our Comeback Campaign...\n\nIt's fun! It's exciting! It's Super Cool!\n\n\n \n\nListen to voice recordings of George Strait for our community!\n\n \n\nReserved $200.00 Sponsor Tables - includes upfront seating for 8 people.\n\n Additional benefits includes table and presentation signage\, name and logo on registration sign up email and announcement over PA system by emcee. \n\n(Hurry limited availability)
X-ALT-DESC;FMTTYPE=text/html:<div style="text-align: center\;">\n<div align="center" style="color: rgb(0\, 0\, 0)\; font-family: &quot\;Times New Roman&quot\;\; font-size: medium\;"><strong style="font-family: verdana\; font-size: 20px\; text-align: center\;">Find Yourself at the May Chamber </strong><strong style="font-family: verdana\; font-size: 20px\; text-align: center\;">Luncheon<br />\n&#8203\;</strong>Celebrate National Tourism Week and listen as a complete update on the Comeback Campaign is presented.<br />\n#findyourselfinrockportfulton<br />\n#lifesbetter<br />\n#travelnow<br />\n#NTTW18</div>\n\n<div align="center" style="color: rgb(0\, 0\, 0)\; font-family: &quot\;Times New Roman&quot\;\; font-size: medium\;">Learn about the community buy-in and support needed for our Comeback Campaign...</div>\n\n<div align="center" style="color: rgb(0\, 0\, 0)\; font-family: &quot\;Times New Roman&quot\;\; font-size: medium\;">It&#39\;s fun! It&#39\;s exciting! It&#39\;s Super Cool!</div>\n</div>\n\n<div style="text-align: center\;">&nbsp\;\n<div align="center" style="text-align: center\;">\n<div><span style="font-size:14px\;"><strong><span style="font-family:times new roman\;">Listen to voice recordings of George Strait for our community!</span></strong></span><br />\n&nbsp\;</div>\n\n<div style="background-color: rgb(255\, 255\, 255)\;"><strong style="color: rgb(51\, 51\, 51)\; font-family: sans-serif\, Arial\, Verdana\, &quot\;Trebuchet MS&quot\;\; font-size: 13px\; background-color: rgb(255\, 255\, 255)\; text-align: -webkit-center\;"><em><span background-color:="" font-size:="" trebuchet="">Reserved $200.00 Sponsor Tables&nbsp\;- includes&nbsp\;upfront seating for&nbsp\;8 people.<br />\n&nbsp\;Additional benefits includes table and presentation&nbsp\;signage\, name and logo on registration sign up email and announcement over PA system by emcee.&nbsp\;</span></em></strong><br style="color: rgb(51\, 51\, 51)\; font-family: sans-serif\, Arial\, Verdana\, &quot\;Trebuchet MS&quot\;\; font-size: 13px\; background-color: rgb(255\, 255\, 255)\; text-align: -webkit-center\;" />\n<span style="color: rgb(51\, 51\, 51)\; font-family: sans-serif\, Arial\, Verdana\, &quot\;Trebuchet MS&quot\;\; background-color: rgb(255\, 255\, 255)\; text-align: -webkit-center\; font-size: 14px\;"><strong style="font-size: 13px\;"><em><span background-color:="" font-size:="" trebuchet=""><span style="font-size: 18px\;">(Hurry limited availability)</span></span></em></strong></span></div>\n</div>\n</div>\n
LOCATION:First Baptist Church 1515 N Live Oak\, Rockport
UID:e.2062.34693
SEQUENCE:3
DTSTAMP:20260421T154130Z
URL:https://members.rockport-fulton.org/events/details/chamber-luncheon-find-yourself-at-the-may-chamber-luncheon-may-8-34693
END:VEVENT

END:VCALENDAR
