BEGIN:VCALENDAR
VERSION:2.0
PRODID:-//ChamberMaster//Event Calendar 2.0//EN
METHOD:PUBLISH
X-PUBLISHED-TTL:P3D
REFRESH-INTERVAL:P3D
CALSCALE:GREGORIAN
BEGIN:VEVENT
DTSTART:20180313T163000Z
DTEND:20180313T180000Z
X-MICROSOFT-CDO-ALLDAYEVENT:FALSE
SUMMARY:Chamber Luncheon - A Couple of RHINOs are coming to town!
DESCRIPTION:A Couple of RHINO'S\n\nare coming to town!\n\n \n\nListen how this organization restored hope in New Orleans. \n\nRuth Hinson and Dave White will share their story of how this organization formed following Hurricane Katrina. \n\n \n\nOur VolunTOURism Team of the Economic Development Recovery Team will share ways this program and the team who will be developing it here in the Rockport-Fulton area.\n\n \n\nReserved $200.00 Sponsor Tables - includes upfront seating for 8 people.\n\n Additional benefits includes table and presentation signage\, name and logo on registration sign up email and announcement over PA system by emcee. \n\n(Hurry limited availability)\n\n \n\nJoin the Rockport-Fulton Chamber of Commerce for this very detailed\, informative luncheon. If you have questions\, please do not hesitate to contact membership@1rockport.org
X-ALT-DESC;FMTTYPE=text/html:<div style="text-align: center\;">\n<div align="center" style="color: rgb(0\, 0\, 0)\; font-family: Impact\, Chicago\; font-size: 36pt\;">A Couple of RHINO&#39\;S</div>\n\n<div align="center" style="color: rgb(0\, 0\, 0)\; font-family: Impact\, Chicago\; font-size: 36pt\;">are coming to town!</div>\n\n<div align="center" font-size:="" new="" style="color: rgb(0\, 0\, 0)\; font-family: " times="">&nbsp\;</div>\n\n<div align="center" font-size:="" new="" style="color: rgb(0\, 0\, 0)\; font-family: " times="">Listen how this organization restored hope in New Orleans.&nbsp\;</div>\n\n<div align="center" font-size:="" new="" style="color: rgb(0\, 0\, 0)\; font-family: " times="">Ruth Hinson and Dave White will share their story of how this organization formed following Hurricane Katrina.&nbsp\;<br />\n&nbsp\;</div>\n\n<div align="center" font-size:="" new="" style="color: rgb(0\, 0\, 0)\; font-family: " times="">Our VolunTOURism&nbsp\;Team&nbsp\;of the Economic Development Recovery Team will share ways this program and the team who will be developing it here in the Rockport-Fulton area.<br />\n&nbsp\;<br />\n<strong><em><span background-color:="" font-size:="" style="color: rgb(51\, 51\, 51)\; font-family: sans-serif\, Arial\, Verdana\, " trebuchet="">Reserved $200.00 Sponsor Tables&nbsp\;- includes&nbsp\;upfront seating for&nbsp\;8 people.<br />\n&nbsp\;Additional benefits includes table and presentation&nbsp\;signage\, name and logo on registration sign up email and announcement over PA system by emcee.&nbsp\;</span></em></strong><br />\n<span style="font-size:14px\;"><strong style="font-family: sans-serif\, Arial\, Verdana\, &quot\;Trebuchet MS&quot\;\; font-size: 13px\; text-align: -webkit-center\; background-color: rgb(255\, 255\, 255)\;"><em><span background-color:="" font-size:="" style="color: rgb(51\, 51\, 51)\;" trebuchet=""><span style="font-size:18px\;">(Hurry limited availability)</span></span></em></strong></span><br />\n&nbsp\;</div>\n</div>\nJoin the Rockport-Fulton Chamber of Commerce for this very detailed\, informative luncheon. If you have questions\, please do not hesitate to contact <a href="mailto:membership@1rockport.org?subject=Chamber%20Luncheon">membership@1rockport.org</a>
LOCATION:St. Peter's Episcopal Church 555 Enterprise Blvd. Rockport\, TX 78382
UID:e.2062.32379
SEQUENCE:3
DTSTAMP:20260421T190018Z
URL:https://members.rockport-fulton.org/events/details/chamber-luncheon-a-couple-of-rhinos-are-coming-to-town-32379
END:VEVENT

END:VCALENDAR
