BEGIN:VCALENDAR
VERSION:2.0
PRODID:-//ChamberMaster//Event Calendar 2.0//EN
METHOD:PUBLISH
X-PUBLISHED-TTL:P3D
REFRESH-INTERVAL:P3D
CALSCALE:GREGORIAN
BEGIN:VEVENT
DTSTART:20170818T163000Z
DTEND:20170818T180000Z
X-MICROSOFT-CDO-ALLDAYEVENT:FALSE
SUMMARY:Chairman's Circle Luncheon
DESCRIPTION:The Chairman's Circle is designed to bring together\, the masterful minds of the Chamber   the past Chairmen of the Board. This is a great group of people who put a lot of their heart and soul into the community and their Chamber. We are so honored to highlight you at this time.\n\n\n\nWe are celebrating the anniversary of an extraordinary event   \n\nthe 6th anniversary of the opening of the Rockport-Fulton Chamber of Commerce New Offices and Visitor Center.\n\n \n\nWe want to mark this anniversary by having a special seated meal in your honor.
X-ALT-DESC;FMTTYPE=text/html:<div style="text-align: center\;"><span style="font-family:eras medium itc\,sans-serif\;"><span style="font-size:14.0pt\;">The Chairman&rsquo\;s Circle is designed to bring together\, the masterful minds of the Chamber &ndash\; the past Chairmen of the Board. This is a great&nbsp\;group of people who put a lot of their heart and soul into the community and their Chamber. We are so honored to highlight you at this time.</span></span><br />\n<br />\n<span style="font-family:eras medium itc\,sans-serif\;"><span style="font-size:14.0pt\;">We are celebrating the anniversary of an extraordinary event &ndash\; </span></span><br />\n<span style="font-family:eras medium itc\,sans-serif\;"><span style="font-size:14.0pt\;">the 6th anniversary of the opening of the Rockport-Fulton Chamber of Commerce New Offices&nbsp\;and Visitor Center.</span></span><br />\n&nbsp\;<br />\n<span style="font-family:eras medium itc\,sans-serif\;"><span style="font-size:14.0pt\;">We want to mark this anniversary by having a special seated meal in your honor.</span></span><br />\n&nbsp\;</div>\n
LOCATION:Rockport Yacht Club 722 Navigation Circle Rockport\, TX 78382
UID:e.2062.26266
SEQUENCE:3
DTSTAMP:20260422T065627Z
URL:https://members.rockport-fulton.org/events/details/chairman-s-circle-luncheon-26266
END:VEVENT

END:VCALENDAR
