BEGIN:VCALENDAR
VERSION:2.0
PRODID:-//ChamberMaster//Event Calendar 2.0//EN
METHOD:PUBLISH
X-PUBLISHED-TTL:P3D
REFRESH-INTERVAL:P3D
CALSCALE:GREGORIAN
BEGIN:VEVENT
DTSTART:20260507T143000Z
DTEND:20260507T153000Z
X-MICROSOFT-CDO-ALLDAYEVENT:FALSE
SUMMARY:Business of the Month - Baker Law
DESCRIPTION:Business of the Month
X-ALT-DESC;FMTTYPE=text/html:Business of the Month
LOCATION:Baker's Law 401 S Austin St Rockport\, TX 78382
UID:e.2062.64765
SEQUENCE:3
DTSTAMP:20260420T204322Z
URL:https://members.rockport-fulton.org/events/details/business-of-the-month-baker-law-64765
END:VEVENT

END:VCALENDAR
