BEGIN:VCALENDAR
VERSION:2.0
PRODID:-//ChamberMaster//Event Calendar 2.0//EN
METHOD:PUBLISH
X-PUBLISHED-TTL:P3D
REFRESH-INTERVAL:P3D
CALSCALE:GREGORIAN
BEGIN:VEVENT
DTSTART:20180426T210000Z
DTEND:20180427T000000Z
X-MICROSOFT-CDO-ALLDAYEVENT:FALSE
SUMMARY:Business Expo - You're a Superhero for Your Business April 26
DESCRIPTION:Calling All Business Superheroes!!! Whether you're the caped crusader of bookkeeping\, insurance\, hospitality\, technology or beyond - there's only one place to be on Thursday\, April 26th...\n\n\n\n"Superhero" theme is in place for the 2018 Rockport-Fulton Chamber of Commerce Business Expo. The event provides access to all area businesses and is a great way to let people know what those businesses have to offer. This year's participants are encouraged to decorate their booths in honor of their favorite superhero.  \n\n	Boost Your Business\n	Gain New Customers\n	Open New Markets\n	Connect Outside Your Business Circle\n	Connect to the Community\n	Reconnect With Past Customers\n\n\n\nThis year it is open to all Businesses that would like to participate!!
X-ALT-DESC;FMTTYPE=text/html:<span style="color: rgb(75\, 79\, 86)\; font-family: Helvetica\, Arial\, sans-serif\; font-size: 14px\; background-color: rgb(255\, 255\, 255)\;">Calling All Business Superheroes!!! Whether you&#39\;re the caped crusader of bookkeeping\, insurance\, hospitality\, technology or beyond - there&#39\;s only one place to be on Thursday\, April 26th...</span><br />\n<br />\n&quot\;Superhero&quot\; theme is in place for the 2018 Rockport-Fulton Chamber of Commerce Business Expo. The event provides access to all area businesses and is a great way to let people know what those businesses have to offer. This year&#39\;s participants are encouraged to decorate their booths in honor of their favorite superhero. &nbsp\;\n<ul font-size:="" style="padding: 0px 40px\; color: rgb(51\, 51\, 51)\; font-family: sans-serif\, Arial\, Verdana\, " trebuchet="">\n	<li>Boost Your Business</li>\n	<li>Gain New Customers</li>\n	<li>Open New Markets</li>\n	<li>Connect Outside Your Business Circle</li>\n	<li>Connect to the Community</li>\n	<li>Reconnect With Past Customers</li>\n</ul>\n<br />\nThis year it is open to all Businesses that would like to participate!!
LOCATION:Click here for Registration Form Click here for Vendor Floor Map Festival Grounds at Rockport Harbor 210 Seabreeze Drive\, Rockport\, TX 78382 www.rockport-fulton.org
UID:e.2062.32344
SEQUENCE:3
DTSTAMP:20260421T170738Z
URL:https://members.rockport-fulton.org/events/details/business-expo-you-re-a-superhero-for-your-business-april-26-32344
END:VEVENT

END:VCALENDAR
