BEGIN:VCALENDAR
VERSION:2.0
PRODID:-//ChamberMaster//Event Calendar 2.0//EN
METHOD:PUBLISH
X-PUBLISHED-TTL:P3D
REFRESH-INTERVAL:P3D
CALSCALE:GREGORIAN
BEGIN:VEVENT
DTSTART:20180210T160000Z
DTEND:20180211T010000Z
X-MICROSOFT-CDO-ALLDAYEVENT:FALSE
SUMMARY:Bountiful Bowl Feb. 10 and Clay Expo. Feb 10-11
DESCRIPTION:16TH ANNUAL \n\nBOUNTIFUL BOWL POTTERY FAIR AND ROCKPORT CLAY EXPO AND GALLERY CRAWL\n\nDEMOS FREE AND OPEN TO THE PUBLIC\n\n\n\nSAT. FEB 10TH - 10AM-4PM - Bountiful Bowl Pottery Fair at The Women's Club - $5.00 Entrance donation supports local MEALS ON WHEELS\n\n12:00PM Lunch by Kimmi's Fine Foods\n\nSAT. FEB 10th - 5PM-6:30PM Opening Reception at Rockport Center for the Arts - Free Open to the Public\n\n \n\nSUN. FEB 11TH - Demos Free & Open to the Public Begins at 10AM Downtown Rockport Heritage District\n\n11AM Brunch at 495 Chesapeake Eats\n\n\n\nSaturday & Sunday Gallery Crawl\n\nWind Way Gallery\, Texas By Design\, Rockport Gallery\, 4-The-Birds
X-ALT-DESC;FMTTYPE=text/html:<h3 style="color: rgb(0\, 0\, 0)\; font-family: Arial\, Helvetica\, sans-serif\; text-align: center\;"><span style="font-size:24px\;"><b>&#8203\;16TH ANNUAL&nbsp\;<br />\nBOUNTIFUL BOWL POTTERY FAIR AND ROCKPORT CLAY EXPO AND GALLERY CRAWL</b><br />\n<strong>DEMOS FREE AND OPEN TO THE PUBLIC</strong><br />\n<br />\nSAT. FEB 10TH - 10AM-4PM&nbsp\;- Bountiful Bowl Pottery Fair at The&nbsp\;Women&#39\;s Club - $5.00 Entrance donation supports local MEALS ON WHEELS<br />\n12:00PM&nbsp\;Lunch by Kimmi&#39\;s Fine Foods<br />\nSAT. FEB 10th&nbsp\;- 5PM-6:30PM&nbsp\;Opening Reception at Rockport Center for the Arts - Free Open to the Public</span><br />\n&nbsp\;</h3>\n\n<h3 style="color: rgb(0\, 0\, 0)\; font-family: Arial\, Helvetica\, sans-serif\; text-align: center\;"><span style="font-size:24px\;">SUN. FEB 11TH - Demos Free &amp\; Open to the Public Begins at 10AM&nbsp\;Downtown Rockport Heritage District</span></h3>\n\n<h3 style="color: rgb(0\, 0\, 0)\; font-family: Arial\, Helvetica\, sans-serif\; text-align: center\;"><span style="font-size:24px\;">11AM&nbsp\;Brunch at 495 Chesapeake Eats<br />\n<br />\n<strong><u>Saturday &amp\; Sunday Gallery Crawl</u></strong><br />\nWind Way Gallery\, Texas By Design\, Rockport Gallery\, 4-The-Birds</span><br />\n&nbsp\;</h3>\n
LOCATION:Will be held at The Woman's Club 1104 E. Concho Street and Rockport Center for the Arts Downtown Rockport Heritage District
UID:e.2062.21844
SEQUENCE:3
DTSTAMP:20260421T202003Z
URL:https://members.rockport-fulton.org/events/details/bountiful-bowl-feb-10-and-clay-expo-feb-10-11-21844
END:VEVENT

END:VCALENDAR
