BEGIN:VCALENDAR
VERSION:2.0
PRODID:-//ChamberMaster//Event Calendar 2.0//EN
METHOD:PUBLISH
X-PUBLISHED-TTL:P3D
REFRESH-INTERVAL:P3D
CALSCALE:GREGORIAN
BEGIN:VEVENT
DTSTART:20260202T180000Z
DTEND:20260202T190000Z
X-MICROSOFT-CDO-ALLDAYEVENT:FALSE
SUMMARY:Bernardo De Gálvez | Winter Lecture Series
DESCRIPTION:Celebrate Texas and colonial history with our Winter Lecture Series presentation\, "Bernardo De G lvez\," presented by Caroline Crimm\, on Monday\, February 2nd\, from 12:00 PM to 1:00 PM. This lecture highlights the life and legacy of Bernardo De G lvez\, a key figure in the American Revolution whose efforts in the Gulf Coast and Louisiana played a vital role in shaping early Texas history. Caroline Crimm will provide insight into G lvez's contributions\, leadership\, and the impact of his actions on Texas and the broader Gulf Coast region. The session will conclude with a Q&A\, allowing attendees to engage directly with the speaker and explore the topic further. Admission is free\, with donations gratefully accepted. Enjoy coffee and light refreshments\, generously provided by H-E-B and Duck Blind Coffee. Spend your Monday lunch hour learning about the remarkable legacy of Bernardo De G lvez and his enduring influence on Texas history.
X-ALT-DESC;FMTTYPE=text/html:Celebrate Texas and colonial history with our Winter Lecture Series presentation\, &ldquo\;Bernardo De G&aacute\;lvez\,&rdquo\; presented by Caroline Crimm\, on Monday\, February 2nd\, from 12:00 PM to 1:00 PM. This lecture highlights the life and legacy of Bernardo De G&aacute\;lvez\, a key figure in the American Revolution whose efforts in the Gulf Coast and Louisiana played a vital role in shaping early Texas history. Caroline Crimm will provide insight into G&aacute\;lvez&rsquo\;s contributions\, leadership\, and the impact of his actions on Texas and the broader Gulf Coast region. The session will conclude with a Q&amp\;A\, allowing attendees to engage directly with the speaker and explore the topic further. Admission is free\, with donations gratefully accepted. Enjoy coffee and light refreshments\, generously provided by H-E-B and Duck Blind Coffee. Spend your Monday lunch hour learning about the remarkable legacy of Bernardo De G&aacute\;lvez and his enduring influence on Texas history.
LOCATION:The Texas Maritime Museum\, Education Room - 1202 Navigation Circle\, Rockport\, TX
UID:e.2062.63667
SEQUENCE:3
DTSTAMP:20260420T205145Z
URL:https://members.rockport-fulton.org/events/details/bernardo-de-g&#225;lvez-winter-lecture-series-63667
END:VEVENT

END:VCALENDAR
