BEGIN:VCALENDAR
VERSION:2.0
PRODID:-//ChamberMaster//Event Calendar 2.0//EN
METHOD:PUBLISH
X-PUBLISHED-TTL:P3D
REFRESH-INTERVAL:P3D
CALSCALE:GREGORIAN
BEGIN:VEVENT
DTSTART:20140927T150000Z
DTEND:20140927T190000Z
X-MICROSOFT-CDO-ALLDAYEVENT:FALSE
SUMMARY:Bay View RV Resort Craft Sale
DESCRIPTION:Come browse the handmade arts and crafts items for sale in our Family Club House! Vendors welcome!
X-ALT-DESC;FMTTYPE=text/html:Come browse the handmade arts and crafts items for sale in our Family Club House! Vendors welcome!
LOCATION:Family Club House @ Bay View RV Resort\, 5451 Highway 35 N\, Rockport\, TX 78382
UID:e.2062.808
SEQUENCE:3
DTSTAMP:20260424T192558Z
URL:https://members.rockport-fulton.org/events/details/bay-view-rv-resort-craft-sale-09-27-2014-808
END:VEVENT

END:VCALENDAR
