BEGIN:VCALENDAR
VERSION:2.0
PRODID:-//ChamberMaster//Event Calendar 2.0//EN
METHOD:PUBLISH
X-PUBLISHED-TTL:P3D
REFRESH-INTERVAL:P3D
CALSCALE:GREGORIAN
BEGIN:VEVENT
DTSTART:20151008T220000Z
DTEND:20151009T040000Z
X-MICROSOFT-CDO-ALLDAYEVENT:FALSE
SUMMARY:Battle of the Bands at Seafair
DESCRIPTION:Battle of the Bands
X-ALT-DESC;FMTTYPE=text/html:<strong>Battle of the Bands</strong><br />\n&nbsp\;
LOCATION:Festival Grounds under the Big Tent
UID:e.2062.4862
SEQUENCE:3
DTSTAMP:20260423T170159Z
URL:https://members.rockport-fulton.org/events/details/battle-of-the-bands-at-seafair-10-08-2015-4862
END:VEVENT

END:VCALENDAR
