BEGIN:VCALENDAR
VERSION:2.0
PRODID:-//ChamberMaster//Event Calendar 2.0//EN
METHOD:PUBLISH
X-PUBLISHED-TTL:P3D
REFRESH-INTERVAL:P3D
CALSCALE:GREGORIAN
BEGIN:VEVENT
DTSTART:20270114T143000Z
DTEND:20270114T153000Z
X-MICROSOFT-CDO-ALLDAYEVENT:FALSE
SUMMARY:Attractions Meeting
DESCRIPTION:Attractions
X-ALT-DESC;FMTTYPE=text/html:<span style="font-size: 22px\;"><b>Attractions</b></span>
LOCATION:
UID:e.2062.63652
SEQUENCE:3
DTSTAMP:20260421T120419Z
URL:https://members.rockport-fulton.org/events/details/attractions-meeting-01-14-2027-63652
END:VEVENT

END:VCALENDAR
