BEGIN:VCALENDAR
VERSION:2.0
PRODID:-//ChamberMaster//Event Calendar 2.0//EN
METHOD:PUBLISH
X-PUBLISHED-TTL:P3D
REFRESH-INTERVAL:P3D
CALSCALE:GREGORIAN
BEGIN:VEVENT
DTSTART:20180814T150000Z
DTEND:20180814T160000Z
X-MICROSOFT-CDO-ALLDAYEVENT:FALSE
SUMMARY:Aransas Pathways Meeting
DESCRIPTION:ARANSAS PATHWAYS MEETING
X-ALT-DESC;FMTTYPE=text/html:<div style="text-align: center\;"><span style="font-family:comic sans ms\;"><span style="font-size:24px\;"><em><strong>ARANSAS PATHWAYS MEETING</strong></em></span></span><br />\n<br />\n&nbsp\;</div>\n
LOCATION:Various Locations
UID:e.2062.36663
SEQUENCE:3
DTSTAMP:20260421T110544Z
URL:https://members.rockport-fulton.org/events/details/aransas-pathways-meeting-36663
END:VEVENT

END:VCALENDAR
