BEGIN:VCALENDAR
VERSION:2.0
PRODID:-//ChamberMaster//Event Calendar 2.0//EN
METHOD:PUBLISH
X-PUBLISHED-TTL:P3D
REFRESH-INTERVAL:P3D
CALSCALE:GREGORIAN
BEGIN:VEVENT
DTSTART:20180217T143000Z
DTEND:20180217T180000Z
X-MICROSOFT-CDO-ALLDAYEVENT:FALSE
SUMMARY:Aransas Pathway
DESCRIPTION:ARANSAS PATHWAYS\n\n\n\nWork day at C. Hagar Cottage Sanctuary. We will be clearing beds for butterfly and hummer gardens. Bring tools\, gloves and water.\n\n\n\nAransas Pathways venues received various amounts of damage depending on the location. Some sites were untouched while others received major damage. Work is being done to restore all venues as soon as possible.\n\n\n\nVisit our website for detailed information:\n\n\n\nhttp://www.aransaspathways.com
X-ALT-DESC;FMTTYPE=text/html:<div style="text-align: center\;"><span style="font-family:comic sans ms\;"><span style="font-size:24px\;"><em><strong>ARANSAS PATHWAYS<br />\n<br />\nWork day at C. Hagar Cottage Sanctuary. We will be clearing beds for butterfly and hummer gardens. Bring tools\, gloves and water.<br />\n<br />\nAransas Pathways venues received various amounts of damage depending on the location. Some sites were untouched while others received major damage. Work is being done to restore all venues as soon as possible.</strong></em></span></span><br />\n<br />\nVisit our website for detailed information:<br />\n<br />\n<a href="http://www.aransaspathways.com">http://www.aransaspathways.com</a></div>\n
LOCATION:1401-1499 S Church Rockport TX 78382
UID:e.2062.32338
SEQUENCE:3
DTSTAMP:20260421T201309Z
URL:https://members.rockport-fulton.org/events/details/aransas-pathway-32338
END:VEVENT

END:VCALENDAR
