BEGIN:VCALENDAR
VERSION:2.0
PRODID:-//ChamberMaster//Event Calendar 2.0//EN
METHOD:PUBLISH
X-PUBLISHED-TTL:P3D
REFRESH-INTERVAL:P3D
CALSCALE:GREGORIAN
BEGIN:VEVENT
DTSTART:20171111T170000Z
DTEND:20171111T190000Z
X-MICROSOFT-CDO-ALLDAYEVENT:FALSE
SUMMARY:Aransas County Veteran's Memorial Park
DESCRIPTION:VETERAN'S DAY SERVICE\n\nSaturday\, November 11\, 2017\n\nAransas County Veteran's Memorial Park\n\n\n\nSpecial Thanks to our sponsors: Prosperity Bank\, City of Rockport Parks & Leisure Services Department\, and\n\nGary & Patty Howard
X-ALT-DESC;FMTTYPE=text/html:<div style="text-align: center\;"><br />\n<br />\n<br />\n<br />\n<span style="color:#8B4513\;"><strong><span style="font-size:28px\;"><span style="font-family:comic sans ms\;">VETERAN&#39\;S DAY SERVICE<br />\nSaturday\, November 11\, 2017<br />\nAransas County Veteran&#39\;s Memorial Park<br />\n<br />\nSpecial Thanks to our sponsors: Prosperity Bank\, City of Rockport Parks &amp\; Leisure Services Department\, and<br />\nGary &amp\; Patty Howard</span></span></strong></span></div>\n
LOCATION:Aransas County Veterans Memorial Park Rockport\, Tx Aransas County Tx Please join us immediately after the ceremony for refreshments at the American Legion Post\, 1701 S. Church St. In case of inclement weather\, the Veteran's Day Program will be held at American Legion Post.
UID:e.2062.28364
SEQUENCE:3
DTSTAMP:20260422T012647Z
URL:https://members.rockport-fulton.org/events/details/aransas-county-veteran-s-memorial-park-28364
END:VEVENT

END:VCALENDAR
