BEGIN:VCALENDAR
VERSION:2.0
PRODID:-//ChamberMaster//Event Calendar 2.0//EN
METHOD:PUBLISH
X-PUBLISHED-TTL:P3D
REFRESH-INTERVAL:P3D
CALSCALE:GREGORIAN
BEGIN:VEVENT
DTSTART:20170731T170000Z
DTEND:20170731T183000Z
X-MICROSOFT-CDO-ALLDAYEVENT:FALSE
SUMMARY:Aransas County Public Library
DESCRIPTION:Do Well\, Be Well\n\nwith Diabetes\n\nTopics Include:  \n\n\n	Getting Started: How Food Affects Your Blood Glucose-Presented by Dr. McNamara\n	Are You Eating the Right Number of Carbohydrates? Let's Find Out-Presented by Juanita Garcia\, Diabetes Educator\n	Beyond the Diet: Improving Your Blood Glucose Control with Physical Activity-Presented by Kathy Wilson\, RN\n	Beyond Diet and Physical Activity: Improving Your Blood Glucose Control with Medication-Presented by Dr. Cox\, Pharmacist\n	Celebrating Diabetes Control While Avoiding Complications: Having Your Cake (or Snack) and Eating It Too!-Presented by Tina Munoz\, CEA-FCS
X-ALT-DESC;FMTTYPE=text/html:<div style="text-align: center\;"><span style="font-size:36px\;"><span style="font-family:comic sans ms\;"><strong><em>Do Well\, Be Well</em></strong></span></span></div>\n\n<div style="text-align: center\;"><span style="font-size:36px\;"><span style="font-family:comic sans ms\;"><strong><em>with Diabetes<br />\nTopics Include:</em></strong></span></span><span style="font-size:14px\;">&#8203\;&#8203\;</span></div>\n\n<ul>\n	<li>Getting Started: How Food Affects Your Blood Glucose-Presented by Dr. McNamara</li>\n	<li>Are You Eating the Right Number of&nbsp\;Carbohydrates? Let&#39\;s Find Out-Presented by Juanita Garcia\, Diabetes Educator</li>\n	<li>Beyond the Diet: Improving Your Blood Glucose Control with Physical Activity-Presented by Kathy Wilson\, RN</li>\n	<li>Beyond Diet and Physical Activity: Improving Your Blood Glucose Control with Medication-Presented by Dr. Cox\, Pharmacist</li>\n	<li>Celebrating Diabetes Control While Avoiding Complications: Having Your Cake (or Snack) and Eating It Too!-Presented by Tina Munoz\, CEA-FCS</li>\n</ul>\n\n<div style="margin-left: 80px\;">&nbsp\;</div>\n
LOCATION:Aransas County Public Library 701 E. Mimosa Street
UID:e.2062.26256
SEQUENCE:3
DTSTAMP:20260422T084141Z
URL:https://members.rockport-fulton.org/events/details/aransas-county-public-library-07-31-2017-26256
END:VEVENT

END:VCALENDAR
