BEGIN:VCALENDAR
VERSION:2.0
PRODID:-//ChamberMaster//Event Calendar 2.0//EN
METHOD:PUBLISH
X-PUBLISHED-TTL:P3D
REFRESH-INTERVAL:P3D
CALSCALE:GREGORIAN
BEGIN:VEVENT
DTSTART:20180530T230000Z
DTEND:20180531T020000Z
X-MICROSOFT-CDO-ALLDAYEVENT:FALSE
SUMMARY:Annual Changing of the Gavel Banquet 2018
DESCRIPTION:69th Annual Changing of the Gavel Banquet\n\n\n\nIt's BIG! It's exciting! It's fun!\n\nIt's the Annual Changing of the Gavel of the Rockport-Fulton Chamber of Commerce. Join in to honor the annual awards presented to very deserving individuals and groups.\n\n2018 Rockport-Fulton Chamber of Commerce Awards\n\n"Celebrating Exemplary Leadership & Community Involvement"\n\nHarvey "Honors" Awards\n\nCitizen of the Year\n\nChamber Member of the Year\n\nNon-Profit of the Year\n\nSmall Business of the Year\n\nBay Blazer of the Year\n\nBusiness Builder of the Year\n\nChairman's Award   \n\n\n	Special recognition to Jeff and Anne Hunt for their work on the Comeback Campaign
X-ALT-DESC;FMTTYPE=text/html:&nbsp\;\n<div style="font-size: 14px\;"><span style="font-family:verdana\;"><em><strong>69th Annual&nbsp\;Changing of the Gavel&nbsp\;Banquet</strong></em><br />\n<br />\n<strong>It&#39\;s <span style="font-size:16px\;">BIG</span>! It&#39\;s exciting! It&#39\;s fun!</strong><br />\nIt&#39\;s the Annual Changing of the Gavel of the Rockport-Fulton Chamber of Commerce. Join in to honor the annual awards presented to very deserving individuals and groups.</span></div>\n\n<p style="font-size: 14px\;"><span style="font-family:verdana\;">2018 Rockport-Fulton Chamber of Commerce Awards</span></p>\n\n<p style="font-size: 14px\;"><span style="font-family:verdana\;">&quot\;Celebrating Exemplary Leadership &amp\; Community Involvement&quot\;</span></p>\n\n<p style="font-size: 14px\;"><span style="font-family:verdana\;">Harvey &quot\;Honors&quot\; Awards</span></p>\n\n<p style="font-size: 14px\;"><span style="font-family:verdana\;">Citizen of the Year</span></p>\n\n<p style="font-size: 14px\;"><span style="font-family:verdana\;">Chamber Member of the Year</span></p>\n\n<p style="font-size: 14px\;"><span style="font-family:verdana\;">Non-Profit of the Year</span></p>\n\n<p style="font-size: 14px\;"><span style="font-family:verdana\;">Small Business of the Year</span></p>\n\n<p style="font-size: 14px\;"><span style="font-family:verdana\;">Bay Blazer of the Year</span></p>\n\n<p style="font-size: 14px\;"><span style="font-family:verdana\;">Business Builder of the Year</span></p>\n\n<p style="font-size: 14px\;"><span style="font-family:verdana\;">Chairman&#39\;s Award</span>&#8203\;&#8203\;&#8203\;</p>\n\n<ul>\n	<li><span style="font-size:14px\;"><span style="font-family:verdana\;">Special recognition&nbsp\;to Jeff and Anne Hunt for their work on the Comeback Campaign</span></span></li>\n</ul>\n
LOCATION:Camp Aranzazu 5420 FM 1781\, Rockport\, TX 78382 (Travel through the main entrance and make your way to the Main Hall)
UID:e.2062.32817
SEQUENCE:3
DTSTAMP:20260421T154130Z
URL:https://members.rockport-fulton.org/events/details/annual-changing-of-the-gavel-banquet-2018-32817
END:VEVENT

END:VCALENDAR
