BEGIN:VCALENDAR
VERSION:2.0
PRODID:-//ChamberMaster//Event Calendar 2.0//EN
METHOD:PUBLISH
X-PUBLISHED-TTL:P3D
REFRESH-INTERVAL:P3D
CALSCALE:GREGORIAN
BEGIN:VEVENT
DTSTART:20170710T223000Z
DTEND:20170711T020000Z
X-MICROSOFT-CDO-ALLDAYEVENT:FALSE
SUMMARY:Annual Changing of the Gavel Banquet 2017
DESCRIPTION:68th Annual Changing of the Gavel Banquet\n\n\n\nIt's BIG! It's exciting! It's fun!\n\nIt's the Annual Changing of the Gavel of the Rockport-Fulton Chamber of Commerce. Join in to honor the annual awards presented to very deserving individuals and groups. Featuring Patrick H. McGaughey\, international business speaker.\n\n\n\nAbout Patrick H. McGaughey\nPatrick H. McGaughey\, CPF\, IOM\, GGU\, XYZ is an international business speaker and industry consultant.  As a speaker\, Pat has been recognized as one of the Top 5 Enter-Trainers in the United States for his ability to help thousands of audience members laugh a little and learn a lot. \n\n\n\nHis credentials include the Governor's recognition for turning the tourism image in Idaho around 180 degrees and for building a 1000 member Chamber of Commerce in a community of 24\,000 in population.  On a personal note\, Pat hit the PowerBall in April of 2010 when the jackpot was $88 million.  Pat and his wife Gail reside in the lake resort community of Coeur d'Alene\, Idaho where they have two grown children\, five grandchildren and a bass boat geared and ready for world class fishing in North Idaho.  \n\n\n\n\n\nCatered by: Blackbeard's Too\nQueso and Chips & Mahi Ceviche\n\nCitrus Summer Salad w/ Mixed Greens\, Mandarin Oranges\, Grapefruit\, Purple Onion & Cherry Tomatoes\, served with Ranch Dressing or Balsamic Vinaigrette with option sides of Blue Cheese and/or Chopped Walnuts\n\n6 oz. Hand Cut Ribeye\, Grilled Mahi with option of Mango Habanero Salsa or Tartar Sauce and Lemon\n\nSkewer of Broccoli\, Mushroom\, Zucchini and Cherry Tomato\n\nKey Lime Pie & Turtle Cheesecake\n\nRolls & Butter\n\nSweetened or Unsweetened Tea with Lemon\n\n\n\nBeer & Wine (Included)\n\nDress: Coastal Casual
X-ALT-DESC;FMTTYPE=text/html:&nbsp\;<span style="font-size:14px\;"><span style="font-family:verdana\;"><em><strong>68th Annual&nbsp\;Changing of the Gavel&nbsp\;Banquet</strong></em><br />\n<br />\n<strong>It&#39\;s <span style="font-size:16px\;">BIG</span>! It&#39\;s exciting! It&#39\;s fun!</strong><br />\nIt&#39\;s the Annual Changing of the Gavel of the Rockport-Fulton Chamber of Commerce. Join in to honor the annual awards presented to very deserving individuals and groups. Featuring Patrick H. McGaughey\, international business speaker.<br />\n<br />\n<em><strong>About Patrick H. McGaughey</strong></em></span></span>\n<p style="box-sizing: border-box\; margin: 0px 0px 10px\; color: rgb(99\, 99\, 99)\; line-height: 26.1px\;">Patrick H. McGaughey\, CPF\, IOM\, GGU\, XYZ is an international business speaker and industry consultant. &nbsp\;As a speaker\, Pat has been recognized as one of the Top 5 Enter-Trainers in the United States for his ability to help thousands of audience members laugh a little and learn a lot.&nbsp\;<br />\n<br />\nHis credentials include the Governor&#39\;s recognition for turning the tourism image in Idaho around 180 degrees and for building a 1000 member Chamber of Commerce in a community of 24\,000 in population. &nbsp\;On a personal note\, Pat hit the PowerBall in April of 2010 when the jackpot was $88 million. &nbsp\;Pat and his wife Gail reside in the lake resort community of Coeur d&#39\;Alene\, Idaho where they have two grown children\, five grandchildren and a bass boat geared and ready for world class fishing in North Idaho. &nbsp\;<br />\n<br />\n<br />\n<strong><span style="font-size:12px\;"><span style="font-family: sans-serif\, Arial\, Verdana\, &quot\;Trebuchet MS&quot\;\; color: rgb(51\, 51\, 51)\; line-height: 1.6\;">Catered by: Blackbeard&#39\;s Too</span></span></strong></p>\n<span style="font-size:12px\;">Queso&nbsp\;and Chips &amp\; Mahi&nbsp\;Ceviche<br />\nCitrus Summer Salad w/ Mixed Greens\, Mandarin Oranges\, Grapefruit\, Purple Onion &amp\; Cherry Tomatoes\, served with Ranch Dressing or Balsamic Vinaigrette with option sides of Blue Cheese and/or Chopped Walnuts<br />\n6 oz. Hand Cut Ribeye\, Grilled Mahi&nbsp\;with option of Mango Habanero&nbsp\;Salsa or Tartar Sauce and Lemon<br />\nSkewer of Broccoli\, Mushroom\, Zucchini and Cherry Tomato<br />\nKey Lime Pie &amp\; Turtle Cheesecake<br />\nRolls &amp\; Butter<br />\nSweetened or Unsweetened Tea with Lemon<br />\n<br />\nBeer &amp\; Wine (Included)<br />\nDress: Coastal Casual</span>
LOCATION:Paws & Taws - Fulton Convention Center on Fulton Harbor
UID:e.2062.25439
SEQUENCE:3
DTSTAMP:20260422T084233Z
URL:https://members.rockport-fulton.org/events/details/annual-changing-of-the-gavel-banquet-2017-25439
END:VEVENT

END:VCALENDAR
