BEGIN:VCALENDAR
VERSION:2.0
PRODID:-//ChamberMaster//Event Calendar 2.0//EN
METHOD:PUBLISH
X-PUBLISHED-TTL:P3D
REFRESH-INTERVAL:P3D
CALSCALE:GREGORIAN
BEGIN:VEVENT
DTSTART:20160620T223000Z
DTEND:20160621T020000Z
X-MICROSOFT-CDO-ALLDAYEVENT:FALSE
SUMMARY:Annual Changing of the Gavel Banquet 2016
DESCRIPTION:67th Annual Changing of the Gavel Banquet\n\n\n\nIt's big! It's exciting! It's fun!\n\nIt's the Annual Changing of the Gavel of the Rockport-Fulton Chamber of Commerce. Join in to honor the annual awards presented to very deserving individuals and groups. Listen as keynote speaker Patrick Henry delivers a presentation who is obsessed with how to create great customer service.\n\n\n\nAbout Patrick Henry....\nThe keynote speaker will be Patrick Henry. Patrick Henry gives entertaining\, funny\, and motivational keynote speech that show audiences how to create extraordinary customer\, client\, and coworker experiences\n\nAs a former Nashville songwriter and current SiriusXM radio personality on The Family Comedy Channel and Blue Collar Radio\, Patrick believes that the height of learning happens while we are being entertained. He is a performance keynote speaker and is obsessed with showing audiences how to create extraordinary engagement at home\, at work\, and in the community. Patrick is consistently rated as a top speaker which is why his humor\, guitar playing and the performing of original and customized songs offers a unique and memorable experience. Patrick always brings his southern accent and is willing to use it at a moment's notice. Attendees will leave feeling energized\, rolling in the aisles laughing\, and armed with actionable content that they can put to work immediately.\n\nFind out how the "The Jelly Belly Effect" and "Keeping Your Team in Tune" are ways to use emotion to drive results. Emotions lead to feelings\, and feelings lead to actions. If you can make them feel\, you can make them buy. He is a firm believer that "If you do what you love to do for a living\, you'll never work a day in your life".\n\nHis book "The Pancake Principle: seventeen sticky ways to make your customers FLIP for you\, is very popular among the workforce of today. \n\n\n\nCatered by: Miss K's Catering\nBeer & Wine (Included)\n\nDress: Coastal Casual
X-ALT-DESC;FMTTYPE=text/html:<span style="font-size: 14px\;"><em><strong>67th Annual&nbsp\;Changing of the Gavel&nbsp\;Banquet</strong></em></span><br />\n<br />\nIt&#39\;s big! It&#39\;s exciting! It&#39\;s fun!<br />\nIt&#39\;s the Annual Changing of the Gavel of the Rockport-Fulton Chamber of Commerce. Join in to honor the annual awards presented to very deserving individuals and groups. Listen as keynote speaker Patrick Henry delivers a presentation who is obsessed with how to create great customer service.<br />\n<br />\n<span style="font-size:18px\;"><em><strong>About Patrick Henry....</strong></em></span>\n<p style="box-sizing: border-box\; margin: 0px 0px 10px\; color: rgb(99\, 99\, 99)\; font-family: Raleway\, sans-serif\; font-size: 18px\; line-height: 26.1px\;"><span style="background-image:initial\;background-attachment:initial\;background-size:initial\;background-origin:initial\;background-clip:initial\;background-position:initial\;background-repeat:initial\;"><span style="color:#636363\;"><span style="font-family:arial\,sans-serif\;"><span style="font-size:10pt\;">The keynote speaker will be Patrick Henry. Patrick Henry gives entertaining\, funny\, and motivational keynote speech that show audiences how to create extraordinary customer\, client\, and coworker experiences<br />\nAs a former Nashville songwriter and current&nbsp\;<span style="font-size:10pt\;">SiriusXM</span></span></span></span></span>&nbsp\;<span style="background-image:initial\;background-attachment:initial\;background-size:initial\;background-origin:initial\;background-clip:initial\;background-position:initial\;background-repeat:initial\;"><span style="color:#636363\;"><span style="font-family:arial\,sans-serif\;"><span style="font-size:10pt\;">radio personality on The Family Comedy Channel and Blue Collar Radio\, Patrick believes that the height of learning happens while we are being entertained. He is a performance keynote speaker and is obsessed with showing audiences how to create extraordinary engagement at home\, at work\, and in the community. Patrick is consistently rated as a top speaker which is why his humor\, guitar playing and the performing of original and customized songs offers a unique and memorable experience. Patrick always brings his southern accent and is willing to use it at a moment&#39\;s notice. Attendees will leave feeling energized\, rolling in the aisles laughing\, and armed with actionable content that they can put to work immediately.<br />\nFind out how the &quot\;The Jelly Belly Effect&quot\; and &quot\;Keeping Your Team in Tune&quot\; are ways to use emotion to drive results. Emotions lead to feelings\, and feelings lead to actions. If you can make them feel\, you can make them buy. He is a firm believer that &quot\;If you do what you love to do for a living\, you&#39\;ll never work a day in your life&quot\;.<br />\nHis book &quot\;The Pancake Principle: seventeen sticky ways to make your customers FLIP for you\, is very popular among the workforce of today.&nbsp\;</span></span></span></span><br />\n<br />\n<span style="color: rgb(51\, 51\, 51)\; font-family: sans-serif\, Arial\, Verdana\, 'Trebuchet MS'\; font-size: 13px\; line-height: 1.6\;">Catered by: Miss K&#39\;s Catering</span></p>\nBeer &amp\; Wine (Included)<br />\nDress: Coastal Casual
LOCATION:Paws & Taws - Fulton Convention Center on Fulton Harbor
UID:e.2062.18455
SEQUENCE:3
DTSTAMP:20260423T054010Z
URL:https://members.rockport-fulton.org/events/details/annual-changing-of-the-gavel-banquet-2016-18455
END:VEVENT

END:VCALENDAR
