BEGIN:VCALENDAR
VERSION:2.0
PRODID:-//ChamberMaster//Event Calendar 2.0//EN
METHOD:PUBLISH
X-PUBLISHED-TTL:P3D
REFRESH-INTERVAL:P3D
CALSCALE:GREGORIAN
BEGIN:VEVENT
DTSTART:20160610T130000Z
DTEND:20160610T210000Z
X-MICROSOFT-CDO-ALLDAYEVENT:FALSE
SUMMARY:ACISD Education Foundation Benefit Golf Tournament
DESCRIPTION:ACISD Education Foundation's\n\nBenefit Golf Tournament
X-ALT-DESC;FMTTYPE=text/html:<span style="font-size:18px\;"><strong>ACISD Education Foundation&#39\;s<br />\nBenefit Golf Tournament</strong></span>
LOCATION:Rockport Country Club
UID:e.2062.18586
SEQUENCE:3
DTSTAMP:20260423T054008Z
URL:https://members.rockport-fulton.org/events/details/acisd-education-foundation-benefit-golf-tournament-06-10-2016-18586
END:VEVENT

END:VCALENDAR
