BEGIN:VCALENDAR
VERSION:2.0
PRODID:-//ChamberMaster//Event Calendar 2.0//EN
METHOD:PUBLISH
X-PUBLISHED-TTL:P3D
REFRESH-INTERVAL:P3D
CALSCALE:GREGORIAN
BEGIN:VEVENT
DTSTART:20180216T160000Z
DTEND:20180218T230000Z
X-MICROSOFT-CDO-ALLDAYEVENT:FALSE
SUMMARY:911 Never Forget Mobile Exhibit & First Responders Weekend Feb 16-18
DESCRIPTION:911 Never Forget Mobile Exhibit &\n\nFirst Responders Weekend in Rockport-Fulton \n\n\n\nOn February 16-19\, 2018\, President's Holiday Weekend\, we're inviting all men\, women\, and children of all ages to come visit Rockport Harbor at the Festival Grounds site near Rockport Harbor. On behalf of the Stephen Siller Tunnel to Towers Foundation\, this outdoor exhibit will provide an educational experience with a mobile 53-ft Tractor Trailer Exhibit. There will be ceremonies and events each evening. Saturday of that weekend will feature All First Responders. This holiday weekend will be dedicated to remember the brave men and women who were involved in the tragedy our country endured on Sept. 11\, 2001 and all present day First Responders. It is our chance to thank and honor them.  This exhibit will be free of charge. The goal is to provide the community with an eye-opening experience to help "Never Forget". www.rockport-fulton.org\n\n\n\nSpecial thanks to our sponsors:\n\nRockport Rotary Club\n\nDistrict Rotary 5930\n\nDistrict Rotary 5870\n\nLions Club of Rockport\n\nFour Star Soldiers Fellowship\n\nCity of Rockport\n\nAransas County Navigation District\n\nRockport Volunteer Fire Department\n\nCarpet Brokers\n\nLaQuinta Inn & Suites\n\nPelican Bay Resort\n\nAngel Rose Bed & Breakfast\n\nBloomers' Nursery\n\nCoastal Bend Troop Support\n\n \nFriday\, we will have 30 students every 30-minutes going through the exhibit.\n\nFriday at 6 p.m. there will be a 911 Eyewitness Testimony and Candlelight Prayer Service using your cell phone flashlights. \n \n\nSaturday at 10 a.m. there will be a special "reading of the names" ceremony featuring first responder Fulton Fire Chief Rickey McLester as emcee and name readers:\n \n\nChief Howard Gillispie\, Ingleside on the Bay Fire Department\n \n\nChief Eric Giannamore\, Port of Corpus Christi Police\n \n\nChief Dustin Amy\, Gregory Fire Department\n \n\nChief Lyle Lombard\, Portland Fire Department\n \n\nCaptain Gillian Tate\, Rockport Fire Department\n \n\nFirefighter Mike Otis\, Fulton Fire Department\n \n\nFirefighter RJ Thomas\, Ingleside Fire Department\n\n \n\n\nVolunteer Here:  http://www.signupgenius.com/go/4090d4ba5aa22abfe3-911never
X-ALT-DESC;FMTTYPE=text/html:<span style="font-size:16px\;"><span style="color:#FF0000\;"><strong>911 Never Forget Mobile Exhibit &amp\;<br />\nFirst Responders Weekend in Rockport-Fulton</strong></span></span>&nbsp\;<br />\n<br />\nOn February 16-19\, 2018\, President&rsquo\;s Holiday Weekend\, we&rsquo\;re inviting all men\, women\, and children of all ages to come visit Rockport Harbor at the Festival Grounds site near Rockport Harbor. On behalf of the Stephen Siller Tunnel to Towers Foundation\, this outdoor exhibit will provide an educational experience with a mobile 53-ft Tractor Trailer Exhibit. There will be ceremonies and events each evening. Saturday of that weekend will feature All First Responders. This holiday weekend will be dedicated to remember the brave men and women who were involved in the tragedy our country endured on Sept. 11\, 2001 and all present day First Responders. It is our chance to thank and honor them. &nbsp\;This exhibit will be free of charge. The goal is to provide the community with an eye-opening experience to help &quot\;Never Forget&quot\;. <a href="http://www.rockport-fulton.org/">www.rockport-fulton.org</a><br />\n<br />\nSpecial thanks to our sponsors:<br />\nRockport Rotary Club<br />\nDistrict Rotary 5930<br />\nDistrict Rotary 5870<br />\nLions Club of Rockport<br />\nFour Star Soldiers Fellowship<br />\nCity of Rockport<br />\nAransas County Navigation District<br />\nRockport Volunteer Fire Department<br />\nCarpet Brokers<br />\nLaQuinta Inn &amp\; Suites<br />\nPelican Bay Resort<br />\nAngel Rose Bed &amp\; Breakfast<br />\nBloomers&#39\; Nursery<br />\nCoastal Bend Troop Support<br />\n&nbsp\;\n<p dir="ltr" style="line-height:1.2\;margin-top:0pt\;margin-bottom:0pt\;"><span id="docs-internal-guid-2aeb2f3e-9e64-2c3e-b077-30b9b1b1e8be"><span style="font-size: 14pt\; font-family: Arial\; font-variant-numeric: normal\; font-variant-east-asian: normal\; vertical-align: baseline\; white-space: pre-wrap\;">Friday\, we will have 30 students every 30-minutes going through the exhibit.<br />\nFriday at 6 p.m. there will be a 911 Eyewitness Testimony and Candlelight Prayer Service using your cell phone flashlights. </span></span></p>\n&nbsp\;\n\n<p dir="ltr" style="line-height:1.2\;margin-top:0pt\;margin-bottom:0pt\;"><span id="docs-internal-guid-2aeb2f3e-9e64-2c3e-b077-30b9b1b1e8be"><span style="font-size: 14pt\; font-family: Arial\; font-variant-numeric: normal\; font-variant-east-asian: normal\; vertical-align: baseline\; white-space: pre-wrap\;">Saturday at 10 a.m. there will be a special &ldquo\;reading of the names&rdquo\; ceremony featuring first responder Fulton Fire Chief Rickey McLester as emcee and name readers:</span></span></p>\n&nbsp\;\n\n<p dir="ltr" style="line-height:1.2\;margin-top:0pt\;margin-bottom:0pt\;"><span id="docs-internal-guid-2aeb2f3e-9e64-2c3e-b077-30b9b1b1e8be"><span style="font-size: 14pt\; font-family: Arial\; font-variant-numeric: normal\; font-variant-east-asian: normal\; vertical-align: baseline\; white-space: pre-wrap\;">Chief Howard Gillispie\, Ingleside on the Bay Fire Department</span></span></p>\n&nbsp\;\n\n<p dir="ltr" style="line-height:1.2\;margin-top:0pt\;margin-bottom:0pt\;"><span id="docs-internal-guid-2aeb2f3e-9e64-2c3e-b077-30b9b1b1e8be"><span style="font-size: 14pt\; font-family: Arial\; font-variant-numeric: normal\; font-variant-east-asian: normal\; vertical-align: baseline\; white-space: pre-wrap\;">Chief Eric Giannamore\, Port of Corpus Christi Police</span></span></p>\n&nbsp\;\n\n<p dir="ltr" style="line-height:1.2\;margin-top:0pt\;margin-bottom:0pt\;"><span id="docs-internal-guid-2aeb2f3e-9e64-2c3e-b077-30b9b1b1e8be"><span style="font-size: 14pt\; font-family: Arial\; font-variant-numeric: normal\; font-variant-east-asian: normal\; vertical-align: baseline\; white-space: pre-wrap\;">Chief Dustin Amy\, Gregory Fire Department</span></span></p>\n&nbsp\;\n\n<p dir="ltr" style="line-height:1.2\;margin-top:0pt\;margin-bottom:0pt\;"><span id="docs-internal-guid-2aeb2f3e-9e64-2c3e-b077-30b9b1b1e8be"><span style="font-size: 14pt\; font-family: Arial\; font-variant-numeric: normal\; font-variant-east-asian: normal\; vertical-align: baseline\; white-space: pre-wrap\;">Chief Lyle Lombard\, Portland Fire Department</span></span></p>\n&nbsp\;\n\n<p dir="ltr" style="line-height:1.2\;margin-top:0pt\;margin-bottom:0pt\;"><span id="docs-internal-guid-2aeb2f3e-9e64-2c3e-b077-30b9b1b1e8be"><span style="font-size: 14pt\; font-family: Arial\; font-variant-numeric: normal\; font-variant-east-asian: normal\; vertical-align: baseline\; white-space: pre-wrap\;">Captain Gillian Tate\, Rockport Fire Department</span></span></p>\n&nbsp\;\n\n<p dir="ltr" style="line-height:1.2\;margin-top:0pt\;margin-bottom:0pt\;"><span id="docs-internal-guid-2aeb2f3e-9e64-2c3e-b077-30b9b1b1e8be"><span style="font-size: 14pt\; font-family: Arial\; font-variant-numeric: normal\; font-variant-east-asian: normal\; vertical-align: baseline\; white-space: pre-wrap\;">Firefighter Mike Otis\, Fulton Fire Department</span></span></p>\n&nbsp\;\n\n<p dir="ltr" style="line-height:1.2\;margin-top:0pt\;margin-bottom:0pt\;"><span id="docs-internal-guid-2aeb2f3e-9e64-2c3e-b077-30b9b1b1e8be"><span style="font-size: 14pt\; font-family: Arial\; font-variant-numeric: normal\; font-variant-east-asian: normal\; vertical-align: baseline\; white-space: pre-wrap\;">Firefighter RJ Thomas\, Ingleside Fire Department</span></span></p>\n\n<div>&nbsp\;</div>\n<br />\n<span style="font-size: 14px\; font-weight: bold\; color: rgb(0\, 0\, 255)\;"><span style="font-size:18px\;">Volunteer Here</span>:&nbsp\;</span><span style="font-size: 14px\; font-weight: bold\;"><span style="font-size:16px\;"><a href="http://www.signupgenius.com/go/4090d4ba5aa22abfe3-911never"><span style="color:#FF0000\;">&nbsp\;</span></a></span></span><span style="font-size:16px\;"><a href="http://www.signupgenius.com/go/4090d4ba5aa22abfe3-911never"><span style="color:#FF0000\;">http://www.signupgenius.com/go/4090d4ba5aa22abfe3-911never</span></a></span>
LOCATION:Festival Grounds at Rockport Harbor 101 Seabreeze Drive\, Rockport\, TX 78382
UID:e.2062.25441
SEQUENCE:3
DTSTAMP:20260421T201853Z
URL:https://members.rockport-fulton.org/events/details/911-never-forget-mobile-exhibit-first-responders-weekend-feb-16-18-25441
END:VEVENT

END:VCALENDAR
